BEGIN:VCALENDAR
VERSION:2.0
PRODID:-//ChamberMaster//Event Calendar 2.0//EN
METHOD:PUBLISH
X-PUBLISHED-TTL:P3D
REFRESH-INTERVAL:P3D
CALSCALE:GREGORIAN
BEGIN:VEVENT
DTSTART:20100926T010000Z
DTEND:20100926T060000Z
X-MICROSOFT-CDO-ALLDAYEVENT:FALSE
SUMMARY:DANKtoberfest
DESCRIPTION:DANK is shaking up Oktoberfest this year - hold on to your steins!\nThis year we are serving 6 outstanding beers - 4 direct from Munich as they celebrate the 150th Oktoberfest & 2 from Chicago - after all we're German American .  Plenty of Germans live in Chicago and we trust them to brew an outstanding lager.\nAh but you won't be impressed just by double the beer?  \nHow about a nice Doppelbock chocolate gelato or  a little apricot Riesling gelato?  Now you're talking\,  Deutsch.\nWhat to wear to Chicago's outstanding Oktoberfest?  Shop at the Rare Dirndl booth -  a lauded fashion star has banished tiny flowers in favor of bauhaus and animal prints.  As if the dirndl wasn't already a quite enticing ensemble.\nThrow in a full Alpine Sausage Stand\, Schuhplattler dancing and the wunderbar Wil Smaka Band and DANK has you in Oktoberfest heaven.\n\nSo lace up your lederhosen & don your Dirndl - DANKtoberfest is Saturday September 25 at 8:00pm\nEntrance is only $5 - that's 50% less than last year!
X-ALT-DESC;FMTTYPE=text/html:DANK is shaking up Oktoberfest this year - hold on to your steins!\nThis year we are serving 6 outstanding beers - 4 direct from Munich as they celebrate the 150th Oktoberfest & 2 from Chicago - after all we're German American .  Plenty of Germans live in Chicago and we trust them to brew an outstanding lager.\nAh but you won't be impressed just by double the beer?  \nHow about a nice Doppelbock chocolate gelato or  a little apricot Riesling gelato?  Now you're talking\,  Deutsch.\nWhat to wear to Chicago's outstanding Oktoberfest?  Shop at the Rare Dirndl booth -  a lauded fashion star has banished tiny flowers in favor of bauhaus and animal prints.  As if the dirndl wasn't already a quite enticing ensemble.\nThrow in a full Alpine Sausage Stand\, Schuhplattler dancing and the wunderbar Wil Smaka Band and DANK has you in Oktoberfest heaven.\n\nSo lace up your lederhosen & don your Dirndl - DANKtoberfest is Saturday September 25 at 8:00pm\nEntrance is only $5 - that's 50% less than last year!\n
LOCATION:DANK Haus Marunde Ballroom 4740 N Western Ave Chicago IL 60625
UID:e.697.466
SEQUENCE:3
DTSTAMP:20260421T045628Z
URL:http://lincolnsquareravenswood.smartcms.site/events/details/danktoberfest-466
END:VEVENT

END:VCALENDAR
