BEGIN:VCALENDAR
VERSION:2.0
PRODID:-//ChamberMaster//Event Calendar 2.0//EN
METHOD:PUBLISH
X-PUBLISHED-TTL:P3D
REFRESH-INTERVAL:P3D
CALSCALE:GREGORIAN
BEGIN:VEVENT
DTSTART:20100423T000000Z
DTEND:20100423T020000Z
X-MICROSOFT-CDO-ALLDAYEVENT:FALSE
SUMMARY:Earth Day Candlelight Dinner with Alfonso Ponticelli
DESCRIPTION:Celebrating the 40th anniversary of Earth Day\, Julius Meinl will feature a special dinner menu of organic and locally-grown ingredients\, followed with a concert by Alfonso Ponticelli. Do not miss the Django guitar stylings of this renowned Chicago jazz musician!
X-ALT-DESC;FMTTYPE=text/html:Celebrating the 40th anniversary of Earth Day\, Julius Meinl will feature a special dinner menu of organic and locally-grown ingredients\, followed with a concert by Alfonso Ponticelli. Do not miss the Django guitar stylings of this renowned Chicago jazz musician! 
LOCATION:Julius Meinl on Lincoln 4363 N. Lincoln Avenue Chicago\, IL 60618
UID:e.697.307
SEQUENCE:3
DTSTAMP:20260421T141258Z
URL:http://lincolnsquareravenswood.smartcms.site/events/details/earth-day-candlelight-dinner-with-alfonso-ponticelli-307
END:VEVENT

END:VCALENDAR
