BEGIN:VCALENDAR
VERSION:2.0
PRODID:-//ChamberMaster//Event Calendar 2.0//EN
METHOD:PUBLISH
X-PUBLISHED-TTL:P3D
REFRESH-INTERVAL:P3D
CALSCALE:GREGORIAN
BEGIN:VEVENT
DTSTART:20120318T000000Z
DTEND:20120318T023000Z
X-MICROSOFT-CDO-ALLDAYEVENT:FALSE
SUMMARY:Erin Go Berlin - Irish Music with German Influence
DESCRIPTION:Not everyone knows that in Beethoven spent over a decade setting Irish folk texts to music - but the DANK Haus does!\n\n\n\nJoin us this St Patrick's Day with VOX3 Vocal Collective to enjoy Beethoven's contributions as well as Schumann\, Br ll (Austrian)\, Britten\, Clarke and Berlioz.\n\n10 Vocalists will bring this rare treat with a piano trio in the Marunde Ballroom.\n\n\n\nRefreshments available.\n\nWe may even be able to rustle up some Irish beer\n\n\n\nTickets $5.00
X-ALT-DESC;FMTTYPE=text/html:Not everyone knows that in Beethoven spent over a decade setting Irish folk texts to music - but the DANK Haus does!<br />\n<br />\nJoin us this St Patrick&#39\;s Day with VOX3 Vocal Collective to enjoy Beethoven&#39\;s contributions as well as Schumann\, Br&uuml\;ll (Austrian)\, Britten\, Clarke and Berlioz.<br />\n10 Vocalists will bring this rare treat with a piano trio in the Marunde Ballroom.<br />\n<br />\nRefreshments available.<br />\nWe may even be able to rustle up some Irish beer<br />\n<br />\nTickets $5.00
LOCATION:
UID:e.697.2473
SEQUENCE:3
DTSTAMP:20260419T234251Z
URL:http://lincolnsquareravenswood.smartcms.site/events/details/erin-go-berlin-irish-music-with-german-influence-2473
END:VEVENT

END:VCALENDAR
