BEGIN:VCALENDAR
VERSION:2.0
PRODID:-//ChamberMaster//Event Calendar 2.0//EN
METHOD:PUBLISH
X-PUBLISHED-TTL:P3D
REFRESH-INTERVAL:P3D
CALSCALE:GREGORIAN
BEGIN:VEVENT
DTSTART:20111118T210000Z
DTEND:20111118T230000Z
X-MICROSOFT-CDO-ALLDAYEVENT:FALSE
SUMMARY:Event at Angel Food Bakery
DESCRIPTION:Book signing and party.\n\n	CakeSpy Presents Sweet Treats for a Sugar-Filled Life!! Jessie Olsen\, the CakeSpy herself\, will be with us at Angel Food Bakery for sweet treats\, give aways\, and she will even sign your book and draw a unicorn in it\, if you'd like.\n\n	Massive amounts of fun.
X-ALT-DESC;FMTTYPE=text/html:<p>\n	Book signing and party.</p>\n<p>\n	CakeSpy Presents Sweet Treats for a Sugar-Filled Life!! Jessie Olsen\, the CakeSpy herself\, will be with us at Angel Food Bakery for sweet treats\, give aways\, and she will even sign your book and draw a unicorn in it\, if you&#39\;d like.<br />\n	Massive amounts of fun.&nbsp\;<br />\n	&nbsp\;</p>
LOCATION:Angel Food Bakery
UID:e.697.2214
SEQUENCE:3
DTSTAMP:20260420T063545Z
URL:http://lincolnsquareravenswood.smartcms.site/events/details/event-at-angel-food-bakery-2214
END:VEVENT

END:VCALENDAR
