BEGIN:VCALENDAR
VERSION:2.0
PRODID:-//ChamberMaster//Event Calendar 2.0//EN
METHOD:PUBLISH
X-PUBLISHED-TTL:P3D
REFRESH-INTERVAL:P3D
CALSCALE:GREGORIAN
BEGIN:VEVENT
DTSTART:20120519T054500Z
DTEND:20120519T210000Z
X-MICROSOFT-CDO-ALLDAYEVENT:FALSE
SUMMARY:UEFA Champions League Final Viewing Party
DESCRIPTION:Watch Germany's record champions FC Bayern Munich play for European pro soccer's biggest prize in their home stadium against Chelsea FC on our giant projection screen!\n\n\n\nWe'll be serving Weisswurst with Brezn (and plenty of Haendlmaier Senf to go with it). Wash it all down with a cold Paulaner Weissbier.\n\n\n\nDoors open at 11:45 a.m.\,(match starts at 1:45 p.m.) and you can be sure there will be a lot more red in the room than any other place in town. Come cheer die Bayern on to a historic victory at DANK Haus!\n\n\n\nEin Schuss\, ein Tor\, die Bayern!
X-ALT-DESC;FMTTYPE=text/html:Watch Germany&#39\;s record champions FC Bayern Munich play for European pro soccer&#39\;s biggest prize in their home stadium against Chelsea FC on our giant projection screen!<br />\n<br />\nWe&#39\;ll be serving Weisswurst with Brezn (and plenty of Haendlmaier Senf to go with it). Wash it all down with a cold Paulaner Weissbier.<br />\n<br />\nDoors open at 11:45 a.m.\,(match starts at 1:45 p.m.) and you can be sure there will be a lot more red in the room than any other place in town. Come cheer die Bayern on to a historic victory at DANK Haus!<br />\n<br />\nEin Schuss\, ein Tor\, die Bayern! 
LOCATION:
UID:e.697.2582
SEQUENCE:3
DTSTAMP:20260419T201542Z
URL:http://lincolnsquareravenswood.smartcms.site/events/details/event-at-dank-haus-german-american-cultural-center-2582
END:VEVENT

END:VCALENDAR
