BEGIN:VCALENDAR
VERSION:2.0
PRODID:-//ChamberMaster//Event Calendar 2.0//EN
METHOD:PUBLISH
X-PUBLISHED-TTL:P3D
REFRESH-INTERVAL:P3D
CALSCALE:GREGORIAN
BEGIN:VEVENT
DTSTART:20100515T160000Z
DTEND:20100515T200000Z
X-MICROSOFT-CDO-ALLDAYEVENT:FALSE
SUMMARY:Lost German Chicago Exhibit
DESCRIPTION:Fine Arts Committee brings German\, European and American artists to the Scharpenberg Gallery 3-5 times a year. open and free to the public\, Saturdays 11am - 3pm or by appt 4th Floor
X-ALT-DESC;FMTTYPE=text/html:Fine Arts Committee brings German\, European and American artists to the Scharpenberg Gallery 3-5 times a year. open and free to the public\, Saturdays 11am - 3pm or by appt 4th Floor
LOCATION:Dank Haus 4740 N Western 4th floor
UID:e.697.472
SEQUENCE:3
DTSTAMP:20260421T111613Z
URL:http://lincolnsquareravenswood.smartcms.site/events/details/event-at-dank-haus-german-american-cultural-center-472
END:VEVENT

END:VCALENDAR
