BEGIN:VCALENDAR
VERSION:2.0
PRODID:-//ChamberMaster//Event Calendar 2.0//EN
METHOD:PUBLISH
X-PUBLISHED-TTL:P3D
REFRESH-INTERVAL:P3D
CALSCALE:GREGORIAN
BEGIN:VEVENT
DTSTART:20100515T160000Z
DTEND:20100515T200000Z
X-MICROSOFT-CDO-ALLDAYEVENT:FALSE
SUMMARY:Event at DANK Haus German American Cultural Center
DESCRIPTION:The DANK-Haus in historic Lincoln Square will present ?Lost German Chicago? in its newly created museum space. The exhibition features art\, artifacts and memorabilia from within Chicago?s German American community. The items record what has been lost in the Chicago German community while archiving and preserving that which has been entrusted to DANK. Highlights include: exquisite wood carvings dedicated by the Germania Club by the Oscar Mayer family\, relics from the Deutsches Haus at the Columbian Exposition\, Hessen Verein standards\, items from dozens of restaurants including the original Red Star Inn\, Schulien?s Math Igler?s Casino\, the Golden Ox\, memories of St. Boniface Church\, Deli Meyer\, FC Hansa\, the Schiller Liedertafel\, Schoenhofen Brewery\, Lincoln Park Turner Hall and many more.
X-ALT-DESC;FMTTYPE=text/html:The DANK-Haus in historic Lincoln Square will present ?Lost German Chicago? in its newly created museum space. The exhibition features art\, artifacts and memorabilia from within Chicago?s German American community. The items record what has been lost in the Chicago German community while archiving and preserving that which has been entrusted to DANK. Highlights include: exquisite wood carvings dedicated by the Germania Club by the Oscar Mayer family\, relics from the Deutsches Haus at the Columbian Exposition\, Hessen Verein standards\, items from dozens of restaurants including the original Red Star Inn\, Schulien?s Math Igler?s Casino\, the Golden Ox\, memories of St. Boniface Church\, Deli Meyer\, FC Hansa\, the Schiller Liedertafel\, Schoenhofen Brewery\, Lincoln Park Turner Hall and many more.
LOCATION:DANK HAUS
UID:e.697.474
SEQUENCE:3
DTSTAMP:20260421T111612Z
URL:http://lincolnsquareravenswood.smartcms.site/events/details/event-at-dank-haus-german-american-cultural-center-474
END:VEVENT

END:VCALENDAR
