BEGIN:VCALENDAR
VERSION:2.0
PRODID:-//ChamberMaster//Event Calendar 2.0//EN
METHOD:PUBLISH
X-PUBLISHED-TTL:P3D
REFRESH-INTERVAL:P3D
CALSCALE:GREGORIAN
BEGIN:VEVENT
DTSTART:20100522T003000Z
DTEND:20100522T043000Z
X-MICROSOFT-CDO-ALLDAYEVENT:FALSE
SUMMARY:Event at DANK Haus German American Cultural Center
DESCRIPTION:Stammtisch - Open Haus\n\nJoin us for our monthly Stammtisch. See old friends and make new ones. Great German beer\, great German food\, great German gemütlichkeit. \n\n\n\nOur Signature event - gemütlichkeit abounds\n\nSchlager pop in the background\, German bier & food\n\nMensch ärgere dich nicht & Skat available\n\n\n\nLive entertainment every even numbered month
X-ALT-DESC;FMTTYPE=text/html:Stammtisch - Open Haus\n<br>Join us for our monthly Stammtisch. See old friends and make new ones. Great German beer\, great German food\, great German gemütlichkeit. \n<br>\n<br>Our Signature event - gemütlichkeit abounds\n<br>Schlager pop in the background\, German bier & food\n<br>Mensch ärgere dich nicht & Skat available\n<br>\n<br>Live entertainment every even numbered month
LOCATION:Dank Haus 4730 N Western 6th floor Skyline Lounge
UID:e.697.475
SEQUENCE:3
DTSTAMP:20260421T111612Z
URL:http://lincolnsquareravenswood.smartcms.site/events/details/event-at-dank-haus-german-american-cultural-center-475
END:VEVENT

END:VCALENDAR
