BEGIN:VCALENDAR
VERSION:2.0
PRODID:-//ChamberMaster//Event Calendar 2.0//EN
METHOD:PUBLISH
X-PUBLISHED-TTL:P3D
REFRESH-INTERVAL:P3D
CALSCALE:GREGORIAN
BEGIN:VEVENT
DTSTART:20100522T160000Z
DTEND:20100522T200000Z
X-MICROSOFT-CDO-ALLDAYEVENT:FALSE
SUMMARY:Event at DANK Haus German American Cultural Center
DESCRIPTION:Fine Arts Committee brings German\, European and American artists to the Scharpenberg Gallery 3-5 times a year.
X-ALT-DESC;FMTTYPE=text/html:Fine Arts Committee brings German\, European and American artists to the Scharpenberg Gallery 3-5 times a year.
LOCATION:DANK HAUS 4740 N Western 4th floor
UID:e.697.476
SEQUENCE:3
DTSTAMP:20260421T111621Z
URL:http://lincolnsquareravenswood.smartcms.site/events/details/event-at-dank-haus-german-american-cultural-center-476
END:VEVENT

END:VCALENDAR
