BEGIN:VCALENDAR
VERSION:2.0
PRODID:-//ChamberMaster//Event Calendar 2.0//EN
METHOD:PUBLISH
X-PUBLISHED-TTL:P3D
REFRESH-INTERVAL:P3D
CALSCALE:GREGORIAN
BEGIN:VEVENT
DTSTART:20100522T180000Z
DTEND:20100522T210000Z
X-MICROSOFT-CDO-ALLDAYEVENT:FALSE
SUMMARY:Event at DANK Haus German American Cultural Center
DESCRIPTION:Kaffee\, Kuchen und Kino\n\nClassic German films on Saturday afternoons over coffee and pastries. \n\n\n\nEnjoy your favorite Heimat films in pure German. Boy- Girl - the Alps - a song or two!
X-ALT-DESC;FMTTYPE=text/html:Kaffee\, Kuchen und Kino\n<br>Classic German films on Saturday afternoons over coffee and pastries. \n<br>\n<br>Enjoy your favorite Heimat films in pure German. Boy- Girl - the Alps - a song or two!\n<br>\n<br>
LOCATION:DANK HAUS 4740 N Western Brandenburg Room 2nd floor
UID:e.697.477
SEQUENCE:3
DTSTAMP:20260421T111612Z
URL:http://lincolnsquareravenswood.smartcms.site/events/details/event-at-dank-haus-german-american-cultural-center-477
END:VEVENT

END:VCALENDAR
