BEGIN:VCALENDAR
VERSION:2.0
PRODID:-//ChamberMaster//Event Calendar 2.0//EN
METHOD:PUBLISH
X-PUBLISHED-TTL:P3D
REFRESH-INTERVAL:P3D
CALSCALE:GREGORIAN
BEGIN:VEVENT
DTSTART:20100529T003000Z
DTEND:20100529T043000Z
X-MICROSOFT-CDO-ALLDAYEVENT:FALSE
SUMMARY:Event at DANK Haus German American Cultural Center
DESCRIPTION:Contemporary films with English subtitles\n\n\n\nRefreshments available
X-ALT-DESC;FMTTYPE=text/html:Contemporary films with English subtitles\n<br>\n<br>Refreshments available
LOCATION:DANK HAUS 4740 N Western
UID:e.697.480
SEQUENCE:3
DTSTAMP:20260421T111610Z
URL:http://lincolnsquareravenswood.smartcms.site/events/details/event-at-dank-haus-german-american-cultural-center-480
END:VEVENT

END:VCALENDAR
