BEGIN:VCALENDAR
VERSION:2.0
PRODID:-//ChamberMaster//Event Calendar 2.0//EN
METHOD:PUBLISH
X-PUBLISHED-TTL:P3D
REFRESH-INTERVAL:P3D
CALSCALE:GREGORIAN
BEGIN:VEVENT
DTSTART:20100605T180000Z
DTEND:20100605T210000Z
X-MICROSOFT-CDO-ALLDAYEVENT:FALSE
SUMMARY:Kaffee\, Kuchen und Kino
DESCRIPTION:Classic German films on Saturday afternoons over coffee and pastries. Brandenburg Room\, 2nd floor. Doors at Noon\, vorfilm starts at 1pm followed by feature.\n\n\n\nEnjoy your favorite Heimat films in pure German. Heimat are three series of 30 episodic films by Edgar Reitz which view life in Germany between 1919 and 2000 through the eyes of a family from the Hunsrück  area of the Rhineland. Personal and domestic life is set against glimpses of wider social and political events.
X-ALT-DESC;FMTTYPE=text/html:\n<br>Classic German films on Saturday afternoons over coffee and pastries. Brandenburg Room\, 2nd floor. Doors at Noon\, vorfilm starts at 1pm followed by feature.\n<br>\n<br>Enjoy your favorite Heimat films in pure German. Heimat are three series of 30 episodic films by Edgar Reitz which view life in Germany between 1919 and 2000 through the eyes of a family from the Hunsrück  area of the Rhineland. Personal and domestic life is set against glimpses of wider social and political events.\n<br>
LOCATION:DANK HAUS 4740 N Western 2nd floor CTA: Train: 1/2 block off the brown line\, Western stop
UID:e.697.484
SEQUENCE:3
DTSTAMP:20260421T093447Z
URL:http://lincolnsquareravenswood.smartcms.site/events/details/event-at-dank-haus-german-american-cultural-center-484
END:VEVENT

END:VCALENDAR
