BEGIN:VCALENDAR
VERSION:2.0
PRODID:-//ChamberMaster//Event Calendar 2.0//EN
METHOD:PUBLISH
X-PUBLISHED-TTL:P3D
REFRESH-INTERVAL:P3D
CALSCALE:GREGORIAN
BEGIN:VEVENT
DTSTART:20100828T140000Z
DTEND:20100828T190000Z
X-MICROSOFT-CDO-ALLDAYEVENT:FALSE
SUMMARY:Event at Family Grounds Cafe
DESCRIPTION:Family Grounds Cafe is having a 1st Year Anniversary Party! Kids music performances: Little Miss Ann\, Laura Doherty\, Poochamungus and Emily Claire Palmer. Real firetruck for the kids. Free admission to play space and face painting.
X-ALT-DESC;FMTTYPE=text/html:Family Grounds Cafe is having a 1st Year Anniversary Party! Kids music performances: Little Miss Ann\, Laura Doherty\, Poochamungus and Emily Claire Palmer. Real firetruck for the kids. Free admission to play space and face painting. 
LOCATION:Family Grounds Cafe (3652 N. Lincoln Ave.)
UID:e.697.623
SEQUENCE:3
DTSTAMP:20260421T063328Z
URL:http://lincolnsquareravenswood.smartcms.site/events/details/event-at-family-grounds-cafe-623
END:VEVENT

END:VCALENDAR
