BEGIN:VCALENDAR
VERSION:2.0
PRODID:-//ChamberMaster//Event Calendar 2.0//EN
METHOD:PUBLISH
X-PUBLISHED-TTL:P3D
REFRESH-INTERVAL:P3D
CALSCALE:GREGORIAN
BEGIN:VEVENT
DTSTART:20110818T160000Z
DTEND:20110819T010000Z
X-MICROSOFT-CDO-ALLDAYEVENT:FALSE
SUMMARY:Event at Granville Picture Framing at LSQ
DESCRIPTION:NOW BOARDING: DESTINATION ART!\n\nDIRECT FLIGHTS TO ART   SPECIAL TICKET: 1 DAY ONLY\n\n30% OFF ALL TRAVEL/DESTINATION PAINTINGS\n\nLONDON - PARIS - VENICE - OUTER MONGOLIA\n\nTRAVEL FOR YOUR EYES - NO LUGGAGE REQUIRED\n\nGATE OPEN from 11am to 8pm on Thursday\, Aug 18th\n\nGranville Picture Framing at LSQ 4757 N Lincoln Ave
X-ALT-DESC;FMTTYPE=text/html:<span style="font-size:18px\;"><strong>NOW BOARDING: DESTINATION ART!</strong></span><br />\n<span style="font-size:14px\;"><strong>DIRECT FLIGHTS TO ART &ndash\; SPECIAL TICKET: 1 DAY ONLY</strong></span><br />\n<span style="font-size:14px\;"><strong>30% OFF ALL TRAVEL/DESTINATION PAINTINGS<br />\nLONDON - PARIS - VENICE - OUTER MONGOLIA</strong></span><br />\n<strong><span style="font-size:14px\;">TRAVEL FOR YOUR EYES - NO LUGGAGE REQUIRED</span><br />\nGATE OPEN from 11am to 8pm on Thursday\, Aug 18th<br />\nGranville Picture Framing at LSQ 4757 N Lincoln Ave</strong><br />\n
LOCATION:4757 N LINCOLN AVENUE
UID:e.697.1334
SEQUENCE:3
DTSTAMP:20260420T111630Z
URL:http://lincolnsquareravenswood.smartcms.site/events/details/event-at-granville-picture-framing-at-lsq-1334
END:VEVENT

END:VCALENDAR
