BEGIN:VCALENDAR
VERSION:2.0
PRODID:-//ChamberMaster//Event Calendar 2.0//EN
METHOD:PUBLISH
X-PUBLISHED-TTL:P3D
REFRESH-INTERVAL:P3D
CALSCALE:GREGORIAN
BEGIN:VEVENT
DTSTART;VALUE=DATE:20111007
DTEND;VALUE=DATE:20111031
TRANSP:TRANSPARENT
X-MICROSOFT-CDO-ALLDAYEVENT:TRUE
SUMMARY:Event at Granville Picture Framing at LSQ
DESCRIPTION:FALL INTO ART\n\nA Special Showing of Distinctive Art and Frames\n\n30% Off All Framed Art and Mirrors\n\n25% Off All In-Stock Mouldings for Custom Framing\n\nSale Ends Oct 30th
X-ALT-DESC;FMTTYPE=text/html:<span style="font-size:16px\;"><span style="color:#b22222\;"><strong><span style="background-color:#ffffff\;">FALL INTO ART</span></strong></span><br />\n<span style="color:#b22222\;"><span style="background-color:#ffffff\;">A Special Showing of Distinctive Art and Frames</span></span></span><br />\n<span style="font-size:14px\;"><strong><span style="background-color:#ffffff\;">30% Off All Framed Art and Mirrors</span></strong><br />\n<span style="background-color:#ffffff\;"><strong>25% Off All In-Stock Mouldings for Custom Framing</strong><br />\nSale Ends Oct 30th</span></span>
LOCATION:4757 N Lincoln Ave and 6200 N Broadway
UID:e.697.2153
SEQUENCE:3
DTSTAMP:20260420T081816Z
URL:http://lincolnsquareravenswood.smartcms.site/events/details/event-at-granville-picture-framing-at-lsq-2153
END:VEVENT

END:VCALENDAR
