BEGIN:VCALENDAR
VERSION:2.0
PRODID:-//ChamberMaster//Event Calendar 2.0//EN
METHOD:PUBLISH
X-PUBLISHED-TTL:P3D
REFRESH-INTERVAL:P3D
CALSCALE:GREGORIAN
BEGIN:VEVENT
DTSTART:20111216T000000Z
DTEND:20111216T020000Z
X-MICROSOFT-CDO-ALLDAYEVENT:FALSE
SUMMARY:Event at Granville Picture Framing at LSQ
DESCRIPTION:STOP! SIP AND SHOP! THURSDAY\n\n6-8pm  Enjoy SPARKLING CIDER and NIBBLES\n\n              RIGHT ON ART! RIGHT ON FRAME!\n\n\n\n7:15pm  GALLERY TALK\n\n                FRAME STYLES 101:\n\n                Choosing the Right Frame for the Right Art\n\n\n\nHOT DEAL All week Dec11th - dec 17th\n\n                FREE UV FILTERING GLASS UPGRADE\n\n                with Full Custom Order
X-ALT-DESC;FMTTYPE=text/html:<strong><span style="color:#ff0000\;"><span style="font-size:16px\;">STOP! SIP AND SHOP! THURSDAY</span></span></strong><br />\n6-8pm &nbsp\;Enjoy SPARKLING CIDER and NIBBLES<br />\n&nbsp\; &nbsp\; &nbsp\; &nbsp\; &nbsp\; &nbsp\; &nbsp\; RIGHT ON ART! RIGHT ON FRAME!<br />\n<br />\n7:15pm &nbsp\;GALLERY TALK<br />\n&nbsp\; &nbsp\; &nbsp\; &nbsp\; &nbsp\; &nbsp\; &nbsp\; &nbsp\; FRAME STYLES 101:<br />\n&nbsp\; &nbsp\; &nbsp\; &nbsp\; &nbsp\; &nbsp\; &nbsp\; &nbsp\;<em> Choosing the Right Frame for the Right Art</em><br />\n<br />\nHOT DEAL All week Dec11th - dec 17th<br />\n&nbsp\; &nbsp\; &nbsp\; &nbsp\; &nbsp\; &nbsp\; &nbsp\; &nbsp\; FREE UV FILTERING GLASS UPGRADE<br />\n&nbsp\; &nbsp\; &nbsp\; &nbsp\; &nbsp\; &nbsp\; &nbsp\; &nbsp\; with Full Custom Order
LOCATION:4757 N LINCOLN AVENUE
UID:e.697.2231
SEQUENCE:3
DTSTAMP:20260420T045341Z
URL:http://lincolnsquareravenswood.smartcms.site/events/details/event-at-granville-picture-framing-at-lsq-2231
END:VEVENT

END:VCALENDAR
