BEGIN:VCALENDAR
VERSION:2.0
PRODID:-//ChamberMaster//Event Calendar 2.0//EN
METHOD:PUBLISH
X-PUBLISHED-TTL:P3D
REFRESH-INTERVAL:P3D
CALSCALE:GREGORIAN
BEGIN:VEVENT
DTSTART;VALUE=DATE:20120309
DTEND;VALUE=DATE:20120401
TRANSP:TRANSPARENT
X-MICROSOFT-CDO-ALLDAYEVENT:TRUE
SUMMARY:Event at Granville Picture Framing at LSQ
DESCRIPTION:MARCH MADNESS ART SALE\n\n40-70% OFF ALL ORIGINAL OIL PAINTINGS\n\nDISCOUNTS ON GALLERY FRAMES\, TOO\n\n\n\nYOU KNOW YOU HAD YOUR EYE ON THAT SPECIAL PAINTING\,\n\nGET IT NOW AND GET IT AT A GREAT PRICE\n\n\n\nSALE GOOD AT BOTH STORE LOCATIONS\n\n4757 N LINCOLN AND 6200 N BROADWAY\n\n\n\nHURRY\, SALE ENDS MARCH 31ST
X-ALT-DESC;FMTTYPE=text/html:<span style="font-size:24px\;"><strong>MARCH MADNESS ART SALE</strong></span><br />\n<span style="font-size:18px\;"><strong>40-70% OFF ALL ORIGINAL OIL PAINTINGS</strong></span><br />\n<span style="font-size:16px\;">DISCOUNTS ON GALLERY FRAMES\, TOO</span><br />\n<br />\n<span style="font-size:14px\;"><strong><em>YOU KNOW YOU HAD YOUR EYE ON THAT SPECIAL PAINTING\,<br />\nGET IT NOW AND GET IT AT A GREAT PRICE</em></strong></span><br />\n<br />\n<span style="font-size:14px\;">SALE GOOD AT BOTH STORE LOCATIONS</span><br />\n<strong><span style="font-size:18px\;">4757 N LINCOLN AND 6200 N BROADWAY</span></strong><br />\n<br />\n<span style="font-size:18px\;">HURRY\, SALE ENDS MARCH 31ST</span>
LOCATION:4757 N LINCOLN AVE AND 6200 N BROADWAY
UID:e.697.2504
SEQUENCE:3
DTSTAMP:20260419T234322Z
URL:http://lincolnsquareravenswood.smartcms.site/events/details/event-at-granville-picture-framing-at-lsq-2504
END:VEVENT

END:VCALENDAR
