BEGIN:VCALENDAR
VERSION:2.0
PRODID:-//ChamberMaster//Event Calendar 2.0//EN
METHOD:PUBLISH
X-PUBLISHED-TTL:P3D
REFRESH-INTERVAL:P3D
CALSCALE:GREGORIAN
BEGIN:VEVENT
DTSTART;VALUE=DATE:20100309
DTEND;VALUE=DATE:20100310
TRANSP:TRANSPARENT
X-MICROSOFT-CDO-ALLDAYEVENT:TRUE
SUMMARY:Event at Jury's Food & Drink
DESCRIPTION:Vintage Port Night.  Tasting of 4 Classic Vintage Ports\, 1963\, 1966\, 1970 and 1977.  Plus an offer of millinimum Port form the 1870's.  Ports accompanied by cheese\, chocolate\, nuts and fruit.
X-ALT-DESC;FMTTYPE=text/html:Vintage Port Night.  Tasting of 4 Classic Vintage Ports\, 1963\, 1966\, 1970 and 1977.  Plus an offer of millinimum Port form the 1870's.  Ports accompanied by cheese\, chocolate\, nuts and fruit.
LOCATION:4337 N. Lincoln Ave.
UID:e.697.56
SEQUENCE:3
DTSTAMP:20260421T154454Z
URL:http://lincolnsquareravenswood.smartcms.site/events/details/event-at-jury-s-food-drink-56
END:VEVENT

END:VCALENDAR
