BEGIN:VCALENDAR
VERSION:2.0
PRODID:-//ChamberMaster//Event Calendar 2.0//EN
METHOD:PUBLISH
X-PUBLISHED-TTL:P3D
REFRESH-INTERVAL:P3D
CALSCALE:GREGORIAN
BEGIN:VEVENT
DTSTART:20111203T190000Z
DTEND:20111203T200000Z
X-MICROSOFT-CDO-ALLDAYEVENT:FALSE
SUMMARY:Event at Lincoln Square Arts Center
DESCRIPTION:LIVE RADIO SHOW: "Fibber Paints a Christmas Tree White" from the Fibber McGee and Molly series. Presented by Not Your Father's Philco Radio Players at Lincoln Square Theatre at i pm. The theater is located inside Berry Memorial Church at 4754 N. Leavitt. The event is FREE and part of the Seeds of Change Christmas Market taking place in the same building from 10 am to 4 pm Sat.
X-ALT-DESC;FMTTYPE=text/html:LIVE RADIO SHOW: &quot\;Fibber Paints a Christmas Tree White&quot\; from the Fibber McGee and Molly series. Presented by Not Your Father&#39\;s Philco Radio Players at Lincoln Square Theatre at i pm. The theater is located inside Berry Memorial Church at 4754 N. Leavitt. The event is FREE and part of the Seeds of Change Christmas Market taking place in the same building from 10 am to 4 pm Sat. 
LOCATION:4754 N. Leavitt St.\, Chicago
UID:e.697.2236
SEQUENCE:3
DTSTAMP:20260420T045248Z
URL:http://lincolnsquareravenswood.smartcms.site/events/details/event-at-lincoln-square-arts-center-2236
END:VEVENT

END:VCALENDAR
