BEGIN:VCALENDAR
VERSION:2.0
PRODID:-//ChamberMaster//Event Calendar 2.0//EN
METHOD:PUBLISH
X-PUBLISHED-TTL:P3D
REFRESH-INTERVAL:P3D
CALSCALE:GREGORIAN
BEGIN:VEVENT
DTSTART:20100612T010000Z
DTEND:20100612T033000Z
X-MICROSOFT-CDO-ALLDAYEVENT:FALSE
SUMMARY:Event at Lincoln Square Arts Center
DESCRIPTION:"On Golden Pond" - Join Ethel and Norman Thayer at the family cottage this summer as they discover that life can hold surprises even after 48 years of marriage. For everyone who believes (or wants to believe) that love can last a lifetime.
X-ALT-DESC;FMTTYPE=text/html:"On Golden Pond" - Join Ethel and Norman Thayer at the family cottage this summer as they discover that life can hold surprises even after 48 years of marriage. For everyone who believes (or wants to believe) that love can last a lifetime.
LOCATION:4754 N. Leavitt St.
UID:e.697.539
SEQUENCE:3
DTSTAMP:20260421T093347Z
URL:http://lincolnsquareravenswood.smartcms.site/events/details/event-at-lincoln-square-arts-center-539
END:VEVENT

END:VCALENDAR
