BEGIN:VCALENDAR
VERSION:2.0
PRODID:-//ChamberMaster//Event Calendar 2.0//EN
METHOD:PUBLISH
X-PUBLISHED-TTL:P3D
REFRESH-INTERVAL:P3D
CALSCALE:GREGORIAN
BEGIN:VEVENT
DTSTART:20111110T230000Z
DTEND:20111111T023000Z
X-MICROSOFT-CDO-ALLDAYEVENT:FALSE
SUMMARY:Event at Merz Apothecary
DESCRIPTION:Men (and women)\, please join us for an evening celebrating wet shaving!\n\n	\n\n	Merz Apothecary is proud to host an evening dedicated to shaving and men's grooming. \n\n	\n\n	If you are already a fan of wet shaving\, this will be your chance to meet and mingle with other like-minded wet shave enthusiasts. If you're a wet shave beginner and want to learn more\, this is the event for you. You will have the chance to ask questions of experts\, and you can explore one of the country's largest selections of shave equipment in every price range.\n\n	 \n\n	What to Expect:\n\n	- shave experts demonstrating technique and answering questions\n\n	- shave products from the world's best shaving brands\n\n	- great conversation with shave aficionados from across the globe\n\n	- scotch\, cocktails\, beer\, wine and more\n\n	- delicious food and desserts\n\n	- fashion vendors and services\n\n	- live music and a fun social atmosphere\n\n	\n\n	Visit our event page for more details and to RSVP: http://bit.ly/qv41yK
X-ALT-DESC;FMTTYPE=text/html:<div style="text-align: left\;">\n	<font size="3"><strong>Men (and women)\, please join us for an evening celebrating wet shaving!</strong></font></div>\n<div style="text-align: left\;">\n	<br />\n	<font size="3"><span style="font-size: small\;">Merz Apothecary is proud to host an evening dedicated to shaving and men&#39\;s grooming. </span></font><br />\n	<br />\n	If you are already a fan of wet shaving\, this will be your chance to meet and mingle with other like-minded wet shave enthusiasts. If you&#39\;re a wet shave beginner and want to learn more\, this is the event for you. You will have the chance to ask questions of experts\, and you can explore one of the country&#39\;s largest selections of shave equipment in every price range.<br />\n	&nbsp\;</div>\n<div style="text-align: left\;">\n	<font size="3"><span style="font-size: small\;"><span style="font-size: medium\;"><strong>What to Expect:</strong></span></span></font></div>\n<div style="text-align: left\;">\n	<span style="font-size: small\;">- shave experts demonstrating technique and answering questions</span></div>\n<div style="text-align: left\;">\n	<span style="font-size: small\;">- shave products from the world&#39\;s best shaving brands</span></div>\n<div style="text-align: left\;">\n	<span style="font-size: small\;">- great conversation with shave aficionados from across the globe</span></div>\n<div style="text-align: left\;">\n	<span style="font-size: small\;">- scotch\, cocktails\, beer\, wine and more</span></div>\n<div style="text-align: left\;">\n	<span style="font-size: small\;">- delicious food and desserts</span></div>\n<div style="text-align: left\;">\n	<span style="font-size: small\;">- fashion vendors and services</span></div>\n<div style="text-align: left\;">\n	<font size="2">- live music and a fun social atmosphere<br />\n	<br />\n	Visit our event page for more details and to RSVP: </font>http://bit.ly/qv41yK</div>\n
LOCATION:Palmer House Hotel 17 E. Monroe St. Chicago\, IL 60603
UID:e.697.2154
SEQUENCE:3
DTSTAMP:20260420T063416Z
URL:http://lincolnsquareravenswood.smartcms.site/events/details/event-at-merz-apothecary-2154
END:VEVENT

END:VCALENDAR
