BEGIN:VCALENDAR
VERSION:2.0
PRODID:-//ChamberMaster//Event Calendar 2.0//EN
METHOD:PUBLISH
X-PUBLISHED-TTL:P3D
REFRESH-INTERVAL:P3D
CALSCALE:GREGORIAN
BEGIN:VEVENT
DTSTART:20101003T230000Z
DTEND:20101004T040000Z
X-MICROSOFT-CDO-ALLDAYEVENT:FALSE
SUMMARY:Event at Neighborhood Boys & Girls Club
DESCRIPTION:Neighborhood Boys & Girls Club 27th Annual Bears Bash\n\n\n\nSponsored by Mike Hosp\, Oriole Enterprises\, Morici Figlioli & Associates & NBGC\n\n\n\nAll Proceeds will benefit the Neighborhood Boys & Girls Club Programs.
X-ALT-DESC;FMTTYPE=text/html:Neighborhood Boys &amp\; Girls Club 27th Annual Bears Bash\n<br>\n<br>Sponsored by Mike Hosp\, Oriole Enterprises\, Morici Figlioli &amp\; Associates &amp\; NBGC\n<br>\n<br>All Proceeds will benefit the Neighborhood Boys &amp\; Girls Club Programs.\n<br>
LOCATION:St. Andrew's Gymnasium 1658 W. Addison\, Chicago\, IL
UID:e.697.636
SEQUENCE:3
DTSTAMP:20260421T045915Z
URL:http://lincolnsquareravenswood.smartcms.site/events/details/event-at-neighborhood-boys-girls-club-636
END:VEVENT

END:VCALENDAR
