BEGIN:VCALENDAR
VERSION:2.0
PRODID:-//ChamberMaster//Event Calendar 2.0//EN
METHOD:PUBLISH
X-PUBLISHED-TTL:P3D
REFRESH-INTERVAL:P3D
CALSCALE:GREGORIAN
BEGIN:VEVENT
DTSTART:20120315T203000Z
DTEND:20120315T220000Z
X-MICROSOFT-CDO-ALLDAYEVENT:FALSE
SUMMARY:Event at Pickle's Playroom
DESCRIPTION:CPR Class with ChicagoCPR.org\n\nCPR for Parents and Familes - Thurs\, March 15th - 3:30-5pm\n\nPrice - $35/person\n\nNeed an update on recent changes to CPR. Join Kim Wilschek\, RN\, CCE for an hands-on CPR training class and get certified with us.\n\nCopy and paste this link into your browser to register: http://chicagocpr.enrollware.com/registration/reg-start.aspx?id=37336\n\n\n\nWe will have a childcare option available during the class for an additional $15 Additonal siblings are $10. Call 773 293-7747 if interested
X-ALT-DESC;FMTTYPE=text/html:<strong><span style="font-size:16px\;"><span style="color:#ff8c00\;">CPR Class with ChicagoCPR.org</span></span></strong><br />\nCPR for Parents and Familes - Thurs\, March 15th - 3:30-5pm<br />\nPrice - $35/person<br />\nNeed an update on recent changes to CPR. Join Kim Wilschek\, RN\, CCE for an hands-on CPR training class and get certified with us.<br />\nCopy and paste this link into your browser to register: <span style="color:#0000ff\;">http://chicagocpr.enrollware.com/registration/reg-start.aspx?id=37336</span><br />\n<br />\nWe will have a childcare option available during the class for an additional $15 Additonal siblings are $10. Call 773 293-7747 if interested&nbsp\;
LOCATION:Pickle's Playroom
UID:e.697.2511
SEQUENCE:3
DTSTAMP:20260419T234256Z
URL:http://lincolnsquareravenswood.smartcms.site/events/details/event-at-pickle-s-playroom-2511
END:VEVENT

END:VCALENDAR
