BEGIN:VCALENDAR
VERSION:2.0
PRODID:-//ChamberMaster//Event Calendar 2.0//EN
METHOD:PUBLISH
X-PUBLISHED-TTL:P3D
REFRESH-INTERVAL:P3D
CALSCALE:GREGORIAN
BEGIN:VEVENT
DTSTART;VALUE=DATE:20101219
DTEND;VALUE=DATE:20101220
TRANSP:TRANSPARENT
X-MICROSOFT-CDO-ALLDAYEVENT:TRUE
SUMMARY:Event at Pizza D.O.C
DESCRIPTION:Brunch With Santa - Dec. 19 Noon to 2pm\n\nEvery Child Leaves With A Goodie Bag!!!!
X-ALT-DESC;FMTTYPE=text/html:Brunch With Santa - Dec. 19 Noon to 2pm<br />\nEvery Child Leaves With A Goodie Bag!!!!
LOCATION:Pizza DOC
UID:e.697.678
SEQUENCE:3
DTSTAMP:20260421T001653Z
URL:http://lincolnsquareravenswood.smartcms.site/events/details/event-at-pizza-d-o-c-678
END:VEVENT

END:VCALENDAR
