BEGIN:VCALENDAR
VERSION:2.0
PRODID:-//ChamberMaster//Event Calendar 2.0//EN
METHOD:PUBLISH
X-PUBLISHED-TTL:P3D
REFRESH-INTERVAL:P3D
CALSCALE:GREGORIAN
BEGIN:VEVENT
DTSTART;VALUE=DATE:20101231
DTEND;VALUE=DATE:20110101
TRANSP:TRANSPARENT
X-MICROSOFT-CDO-ALLDAYEVENT:TRUE
SUMMARY:Event at Pizza D.O.C
DESCRIPTION:'New Year's Eve'
X-ALT-DESC;FMTTYPE=text/html:'New Year's Eve'\n<br>
LOCATION:Pizza DOC
UID:e.697.679
SEQUENCE:3
DTSTAMP:20260421T001653Z
URL:http://lincolnsquareravenswood.smartcms.site/events/details/event-at-pizza-d-o-c-679
END:VEVENT

END:VCALENDAR
