BEGIN:VCALENDAR
VERSION:2.0
PRODID:-//ChamberMaster//Event Calendar 2.0//EN
METHOD:PUBLISH
X-PUBLISHED-TTL:P3D
REFRESH-INTERVAL:P3D
CALSCALE:GREGORIAN
BEGIN:VEVENT
DTSTART;VALUE=DATE:20110206
DTEND;VALUE=DATE:20110207
TRANSP:TRANSPARENT
X-MICROSOFT-CDO-ALLDAYEVENT:TRUE
SUMMARY:Event at Pizza D.O.C
DESCRIPTION:SUPER BOWL PARTY \n\nFebruary 6\, 2011\n\n5:00 pm\n\nbuy a beer\, free buffet \n\nBuy one get one free pizza (of equal or lesser value)
X-ALT-DESC;FMTTYPE=text/html:SUPER BOWL PARTY \n<br>February 6\, 2011\n<br>5:00 pm\n<br>buy a beer\, free buffet \n<br>Buy one get one free pizza (of equal or lesser value)
LOCATION:Pizza DOC
UID:e.697.756
SEQUENCE:3
DTSTAMP:20260420T204315Z
URL:http://lincolnsquareravenswood.smartcms.site/events/details/event-at-pizza-d-o-c-756
END:VEVENT

END:VCALENDAR
