BEGIN:VCALENDAR
VERSION:2.0
PRODID:-//ChamberMaster//Event Calendar 2.0//EN
METHOD:PUBLISH
X-PUBLISHED-TTL:P3D
REFRESH-INTERVAL:P3D
CALSCALE:GREGORIAN
BEGIN:VEVENT
DTSTART:20110317T220000Z
DTEND:20110318T030000Z
X-MICROSOFT-CDO-ALLDAYEVENT:FALSE
SUMMARY:Event at Pizza D.O.C
DESCRIPTION:St Patricks Day\n\nCorned Beef & Cabbage\n\n$3.50 Stella
X-ALT-DESC;FMTTYPE=text/html:St Patricks Day\n<br>Corned Beef &amp\; Cabbage\n<br>$3.50 Stella
LOCATION:
UID:e.697.785
SEQUENCE:3
DTSTAMP:20260420T191020Z
URL:http://lincolnsquareravenswood.smartcms.site/events/details/event-at-pizza-d-o-c-785
END:VEVENT

END:VCALENDAR
