BEGIN:VCALENDAR
VERSION:2.0
PRODID:-//ChamberMaster//Event Calendar 2.0//EN
METHOD:PUBLISH
X-PUBLISHED-TTL:P3D
REFRESH-INTERVAL:P3D
CALSCALE:GREGORIAN
BEGIN:VEVENT
DTSTART:20100825T000000Z
DTEND:20100825T000000Z
X-MICROSOFT-CDO-ALLDAYEVENT:FALSE
SUMMARY:Event at Ravenswood Chiropractic & Wellness Center
DESCRIPTION:Enjoying Pregnancy with Traditional Chinese Medicine\n\n\n\nRavenswood Chiropractic & Wellness Center proudly presents Tracie Hinton-Chavez\, a Licensed Acupuncturist and pregnancy support expert who will share with you the amazing concepts of Traditional Chinese Medicine that support a strong and healthy pregnancy and recovery strategies that maximize healing and energy.  Join us for this free workshop!  \n\n\n\nTopics to be covered include:\n\nPlanning For a Healthy Pregnancy for Mom and Dad\n\nFertility and Chinese and Western Medicine\n\nFoods and Herbal supports\n\n\n\nDuring Pregnancy\n\nMorning Sickness\n\nStrengthening the Immune System\n\nAches\, Pains\, and Swelling\n\nDigestive Issues\n\n\n\nPreparing  for  Birth\n\nTurning breech babies\n\nLabor and Delivery\n\n\n\nPostpartum Considerations\n\nInsufficient lactation\n\nUterine Prolapse\n\nDepression and Fatigue
X-ALT-DESC;FMTTYPE=text/html:Enjoying Pregnancy with Traditional Chinese Medicine\n<br>\n<br>Ravenswood Chiropractic & Wellness Center proudly presents Tracie Hinton-Chavez\, a Licensed Acupuncturist and pregnancy support expert who will share with you the amazing concepts of Traditional Chinese Medicine that support a strong and healthy pregnancy and recovery strategies that maximize healing and energy.  Join us for this free workshop!  \n<br>\n<br>Topics to be covered include:\n<br>Planning For a Healthy Pregnancy for Mom and Dad\n<br>Fertility and Chinese and Western Medicine\n<br>Foods and Herbal supports\n<br>\n<br>During Pregnancy\n<br>Morning Sickness\n<br>Strengthening the Immune System\n<br>Aches\, Pains\, and Swelling\n<br>Digestive Issues\n<br>\n<br>Preparing  for  Birth\n<br>Turning breech babies\n<br>Labor and Delivery\n<br>\n<br>Postpartum Considerations\n<br>Insufficient lactation\n<br>Uterine Prolapse\n<br>Depression and Fatigue\n<br>\n<br>\n<br>\n<br>
LOCATION:5215 N. Ravenswood\, Suite 105 Chicago IL 60640
UID:e.697.611
SEQUENCE:3
DTSTAMP:20260421T063459Z
URL:http://lincolnsquareravenswood.smartcms.site/events/details/event-at-ravenswood-chiropractic-wellness-center-611
END:VEVENT

END:VCALENDAR
