BEGIN:VCALENDAR
VERSION:2.0
PRODID:-//ChamberMaster//Event Calendar 2.0//EN
METHOD:PUBLISH
X-PUBLISHED-TTL:P3D
REFRESH-INTERVAL:P3D
CALSCALE:GREGORIAN
BEGIN:VEVENT
DTSTART:20100929T231500Z
DTEND:20100929T234500Z
X-MICROSOFT-CDO-ALLDAYEVENT:FALSE
SUMMARY:Event at Ravenswood Community Child Care Center
DESCRIPTION:School Tour
X-ALT-DESC;FMTTYPE=text/html:School Tour
LOCATION:4908 N. Damen Ave.
UID:e.697.641
SEQUENCE:3
DTSTAMP:20260421T045842Z
URL:http://lincolnsquareravenswood.smartcms.site/events/details/event-at-ravenswood-community-child-care-center-641
END:VEVENT

END:VCALENDAR
