BEGIN:VCALENDAR
VERSION:2.0
PRODID:-//ChamberMaster//Event Calendar 2.0//EN
METHOD:PUBLISH
X-PUBLISHED-TTL:P3D
REFRESH-INTERVAL:P3D
CALSCALE:GREGORIAN
BEGIN:VEVENT
DTSTART:20111102T233000Z
DTEND:20111103T013000Z
X-MICROSOFT-CDO-ALLDAYEVENT:FALSE
SUMMARY:Wine Tasting at Trattoria Trullo
DESCRIPTION:TASTE & BUY Wines that you can not get in your local stores....\n\n	\n\n	Welcoming you to join us at Trattoria Trullo for a Wine Tasting on Wednesday\, November 2\, 2011. Many of the wines that will be presented are available only to restaurants and are not available in retail outlets. You are helping Trattoria Trullo select the wines that will be offered on our wine list by purchasing them on November 2nd!\n\n	\n\n	There will be several different vendors such as Winebow\, Villa di Vino\, Banfi Wines\, IMG Distributors and Heritage\, providing 4-5 assortment of wines. Savor tastes from grapes like gravina\, primitivo\, negroamaro\, chianti and many more. Wine from all over\; Argentina\, California\, Puglia\, Tuscany and many more.\n\n	\n\n	If there is anything you like put your order in and pick up your wine a week from ordering (Wednesday\, November 9th).
X-ALT-DESC;FMTTYPE=text/html:<blockquote style="font-family: helvetica\; color: rgb(0\,0\,0)\; font-size: medium" type="cite">\n	<strong><em><span style="font-size: 16.5pt"><span style="color: #202020"><span style="font-family: helvetica\, sans-serif">TASTE &amp\; BUY Wines that you can not get in your local stores....</span></span></span></em></strong><br />\n	<br />\n	<span style="font-size: 13.5pt"><span style="color: #505050"><span style="font-family: helvetica\, sans-serif">Welcoming you to join us at Trattoria Trullo for a Wine Tasting on Wednesday\, November 2\, 2011. Many of the wines that will be presented are available only to restaurants and are not available in retail outlets. You are helping Trattoria Trullo select the wines that will be offered on our wine list by purchasing them on November 2nd!</span></span></span><br />\n	<br />\n	<span style="font-size: 13.5pt"><span style="color: #505050"><span style="font-family: helvetica\, sans-serif">There will be several different vendors such as <strong>Winebow\, Villa di Vino\, Banfi Wines\, IMG Distributors and Heritage</strong>\, providing 4-5 assortment of wines. Savor tastes from grapes like gravina\, primitivo\, negroamaro\, chianti and many more. Wine from all over\; <em>Argentina\, California\, Puglia\, Tuscany </em>and many more.<br />\n	<br />\n	If there is anything you like put your order in and pick up your wine a week from ordering (Wednesday\, November 9th). </span></span></span></blockquote>\n
LOCATION:4767 N Lincoln Ave
UID:e.697.2152
SEQUENCE:3
DTSTAMP:20260420T063344Z
URL:http://lincolnsquareravenswood.smartcms.site/events/details/event-at-trattoria-trullo-2152
END:VEVENT

END:VCALENDAR
