BEGIN:VCALENDAR
VERSION:2.0
PRODID:-//ChamberMaster//Event Calendar 2.0//EN
METHOD:PUBLISH
X-PUBLISHED-TTL:P3D
REFRESH-INTERVAL:P3D
CALSCALE:GREGORIAN
BEGIN:VEVENT
DTSTART:20100630T000000Z
DTEND:20100630T010000Z
X-MICROSOFT-CDO-ALLDAYEVENT:FALSE
SUMMARY:Everyday Ergonomics for the Care and Prevention of Back Pain
DESCRIPTION:Dr. Kenneth Weber\, Chiropractic Physician\, presents:\n\n\n\nEVERYDAY ERGONOMICS in a SPECIAL EDITION of THE CHICAGO BACK SCHOOL\n\n\n\nEVERYDAY ERGONOMICS FOR THE CARE AND PREVENTION OF BACK PAIN\n\n\n\nRavenswood Chiropractic & Wellness Center presents Dr. Kenneth Weber\, an ergonomics\, repetitive strain injury and back pain expert who has a passion for sharing his extensive knowledge of ergonomics.\n\n\n\nDate: Thursday July 29th\, 2010\n\n\n\nTime: 7:00 P.M.\n\n\n\nPlace: Ravenswood Chiropractic & Wellness Center \n\n\n\n            5215 N. Ravenswood\, Suite 105\n\n\n\n            Chicago\, IL  60640\n\n\n\nBENEFIT FROM DR. KENNETH WEBER?S KEEN INSIGHT AND EXPERIENCE\n\n\n\nTopics to be discussed include:\n\n\n\n         Everyday Ergonomics Overview\n\n         Sitting\n\n         Standing\n\n         Sleeping\n\n         Lifting\n\n         Setting up a Workstation\n\n         Repetition (Repetitive Strain Injury)\n\n         Risk Factors \n\n         Eliminating Risk FactorsErgonomics is concerned with the ?fit? between people and their technological tools and environments. It takes account of the user's capabilities and limitations in seeking to ensure that tasks\, equipment\, information and the environment suit each user.  Is your workspace customized to YOU?  Does it make a difference how you sit in your favorite chair?  \n\n\n\nAt this special edition Chicago Back School Workshop\, you?ll learn about everyday ergonomic techniques that help prevent many common injuries and you?ll also have a chance to pose your most challenging questions to the expert.\n\n\n\nHOW TO RESERVE YOUR SEAT\n\n\n\nIf you haven?t already done so\, please make your reservation now.  Seating is limited.\n\n\n\nRegister at the events section of our website www.RennWellness.com or call Nadia Hare at (773) 878-7330.
X-ALT-DESC;FMTTYPE=text/html:Dr. Kenneth Weber\, Chiropractic Physician\, presents:\n<br>\n<br>EVERYDAY ERGONOMICS in a SPECIAL EDITION of THE CHICAGO BACK SCHOOL\n<br>\n<br>EVERYDAY ERGONOMICS FOR THE CARE AND PREVENTION OF BACK PAIN\n<br>\n<br>Ravenswood Chiropractic &amp\; Wellness Center presents Dr. Kenneth Weber\, an ergonomics\, repetitive strain injury and back pain expert who has a passion for sharing his extensive knowledge of ergonomics.\n<br>\n<br>Date: Thursday July 29th\, 2010\n<br>\n<br>Time: 7:00 P.M.\n<br>\n<br>Place: Ravenswood Chiropractic &amp\; Wellness Center \n<br>\n<br>            5215 N. Ravenswood\, Suite 105\n<br>\n<br>            Chicago\, IL  60640\n<br>\n<br>BENEFIT FROM DR. KENNETH WEBER?S KEEN INSIGHT AND EXPERIENCE\n<br>\n<br>Topics to be discussed include:\n<br>\n<br>         Everyday Ergonomics Overview\n<br>         Sitting\n<br>         Standing\n<br>         Sleeping\n<br>         Lifting\n<br>         Setting up a Workstation\n<br>         Repetition (Repetitive Strain Injury)\n<br>         Risk Factors \n<br>         Eliminating Risk FactorsErgonomics is concerned with the ?fit? between people and their technological tools and environments. It takes account of the user's capabilities and limitations in seeking to ensure that tasks\, equipment\, information and the environment suit each user.  Is your workspace customized to YOU?  Does it make a difference how you sit in your favorite chair?  \n<br>\n<br>At this special edition Chicago Back School Workshop\, you?ll learn about everyday ergonomic techniques that help prevent many common injuries and you?ll also have a chance to pose your most challenging questions to the expert.\n<br>\n<br>HOW TO RESERVE YOUR SEAT\n<br>\n<br>If you haven?t already done so\, please make your reservation now.  Seating is limited.\n<br>\n<br>Register at the events section of our website www.RennWellness.com or call Nadia Hare at (773) 878-7330.\n<br>
LOCATION:Ravenswood Chiropractic & Wellness Center 5215 North Ravenswood\, Suite 105 Chicago\, IL 60640
UID:e.697.567
SEQUENCE:3
DTSTAMP:20260421T093412Z
URL:http://lincolnsquareravenswood.smartcms.site/events/details/everyday-ergonomics-for-the-care-and-prevention-of-back-pain-567
END:VEVENT

END:VCALENDAR
