BEGIN:VCALENDAR
VERSION:2.0
PRODID:-//ChamberMaster//Event Calendar 2.0//EN
METHOD:PUBLISH
X-PUBLISHED-TTL:P3D
REFRESH-INTERVAL:P3D
CALSCALE:GREGORIAN
BEGIN:VEVENT
DTSTART;VALUE=DATE:20111025
DTEND;VALUE=DATE:20111116
TRANSP:TRANSPARENT
X-MICROSOFT-CDO-ALLDAYEVENT:TRUE
SUMMARY:Fall Coat Drive at Little Green Baby
DESCRIPTION:Coat Drive\n				\n					for Cornerstone Community Outreach\n			\n		\n	\n\n\n	\n		\n			\n				Greetings!\n\n				\n\n				\n					We need clean coats in good condition to be donated to Cornerstone Community Outreach. \n				\n					 \n				\n					This local organization runs three homeless shelters\, a soup kitchen\, and many community services to the under-served in Chicago.\n				\n					 \n				\n					15% off your entire purchase\n				\n					 \n				\n					Bring your donations to the store and receive15% off your entire purchase that day to thank you for your generosity.\n				\n					 \n				\n					**Please bring clean coats in good condition for men\, women\, and children of all sizes. Hats and gloves also accepted. No item limit. Now through Nov 15.\n			\n		\n	\n\n\n\n\n	\n		Details on Cornerstone:\n	\n		Residents of CCO's programs receive assistance with resume writing\, job referrals\, and housing referrals\, as well as guidance as they rebuild their lives and find stability for themselves and their families. This assistance may be simple: a bus card to take them to a job interview\, or help regaining lost identification. Sometimes the help our families and individuals need is more complex: learning how to resolve conflict within their family or with other residents\, budgeting skills\, and referrals for help to treat addiction or mental illness. CCO's caseworkers strive to meet the needs of our residents and provide them with opportunities for growth and a new start.\n	\n		 \n	\n		More information on CCO can be found at http://www.ccolife.org/programs-and-services/services-for-our-residents
X-ALT-DESC;FMTTYPE=text/html:<table border="0" cellpadding="0" cellspacing="0" id="content_LETTER.BLOCK4" style="display: table" width="100%">\n	<tbody>\n		<tr>\n			<td align="center" style="text-align: center\; padding-bottom: 20px\; padding-left: 30px\; padding-right: 30px\; font-family: tahoma\, arial\, helvetica\, sans-serif\; color: rgb(0\,38\,141)\; font-size: 18pt\; padding-top: 20px">\n				<div style="text-align: center">\n					<span color="#009ceb" face="Georgia\, 'Times New Roman'\, Times\, serif" size="5" style="font-family: 'arial black'\, 'avant garde'\; font-size: 22pt">Coat Drive</span></div>\n				<div style="text-align: center">\n					<span style="font-family: georgia\, palatino\; font-size: 21px">for Cornerstone Community Outreach</span></div>\n			</td>\n		</tr>\n	</tbody>\n</table>\n<table border="0" cellpadding="30" cellspacing="0" id="content_LETTER.BLOCK5" width="100%">\n	<tbody>\n		<tr>\n			<td align="left" style="text-align: left\; font-family: arial\, helvetica\, sans-serif">\n				<span style="color: #5e0069\; font-size: 12pt">Greetings!</span><br />\n				<br />\n				<div align="center" style="text-align: center\; color: #605e6c\; font-size: 12pt">\n					<span style="color: #5e0069\; font-size: 14pt">We need&nbsp\;<strong>clean coats in good condition</strong>&nbsp\;to be donated to <strong>Cornerstone Community Outreach</strong>.&nbsp\;</span></div>\n				<p style="margin-top: 0px\; margin-bottom: 0px">\n					&nbsp\;</p>\n				<div align="center" style="text-align: center\; color: #605e6c\; font-size: 12pt">\n					<span style="font-family: 'segoe print'\, 'comic sans ms'\, arial\, sans-serif\; color: #5e0069\; font-size: 12pt">This local organization runs three homeless shelters\, a soup kitchen\, and many community services to the under-served in Chicago.</span></div>\n				<p align="center" style="text-align: center\; margin-top: 0px\; margin-bottom: 0px">\n					&nbsp\;</p>\n				<div align="center" style="text-align: center\; font-family: arial\, helvetica\, sans-serif">\n					<span style="font-family: 'arial black'\, 'avant garde'\; color: #ff0000\; font-size: 20pt">15% off your entire purchase</span></div>\n				<div align="center" style="text-align: center">\n					&nbsp\;</div>\n				<div align="center" style="text-align: center">\n					<span style="font-family: arial\, helvetica\, sans-serif\; color: #5e0069\; font-size: 19px">Bring your donations to the store and receive15% off your entire purchase that day to thank you for your generosity.</span></div>\n				<div>\n					&nbsp\;</div>\n				<div>\n					<span style="font-family: 'segoe print'\, 'comic sans ms'\, arial\, sans-serif\; color: #5e0069\; font-size: 9pt"><span face="Arial\, Helvetica\, sans-serif" style="font-family: arial\, helvetica\, sans-serif">**Please bring clean coats in good condition for men\, women\, and children of all sizes. Hats and gloves also accepted. No item <span style="font-family: arial\, helvetica\, sans-serif">l<span style="font-family: arial\, helvetica\, sans-serif">i</span></span></span><span face="'Segoe Print'\, 'Comic Sans MS'\, Arial\, sans-serif" style="font-family: arial\, helvetica\, sans-serif">mit. Now through Nov 15.</span></span></div>\n			</td>\n		</tr>\n	</tbody>\n</table>\n<br />\n<div style="color: #605e6c\; font-size: 12pt">\n	<div>\n		<span><span color="#000090" size="2" style="color: #000090\; font-size: 9pt"><strong>Details on Cornerstone:</strong></span></span></div>\n	<div style="color: #605e6c\; font-size: 12pt">\n		<span><span style="color: #000090\; font-size: 10pt"><em>Residents of CCO&#39\;s programs receive assistance with resume writing\, job referrals\, and housing referrals\, as well as guidance as they rebuild their lives and find stability for themselves and their families. This assistance may be simple: a bus card to take them to a job interview\, or help regaining lost identification. Sometimes the help our families and individuals need is more complex: learning how to resolve conflict within their family or with other residents\, budgeting skills\, and referrals for help to treat addiction or mental illness. CCO&#39\;s caseworkers strive to meet the needs of our residents and provide them with opportunities for growth and a new start.</em></span></span></div>\n	<div style="color: #605e6c\; font-size: 12pt">\n		<span><span style="color: #000090\; font-size: 10pt"><em>&nbsp\;</em></span></span></div>\n	<div style="color: #605e6c\; font-size: 12pt">\n		<span><span style="color: #000090\; font-size: 10pt"><em><span style="font-size: 10pt">More information on CCO can be found at&nbsp\;</span><a href="http://r20.rs6.net/tn.jsp?llr=45arezcab&amp\;et=1107857370832&amp\;s=267&amp\;e=0017HPkedP2oLpdXoUPxQFl3QWw2ys73S5BrsMaZ5KwAGRJQO52T64DI2ESJJYRHtLO-HXk5h2C_a2eyD3mlTAOslh26nurS579tb44NImKGVrtkQO_bJwjcqr2S-ib5rBl5QiE_F0TC9iFzHYrWX4rHwGiTriF7CiXBIEKENDXSLIFTQTXvpcHgA==" shape="rect" style="color: rgb(0\,0\,144)\; font-size: 10pt" target="_blank">http://www.ccolife.org/programs-and-services/services-for-our-residents</a>&nbsp\;</em></span></span></div>\n</div>\n
LOCATION:Little Green Baby 4654 N. Rockwell Street
UID:e.697.2185
SEQUENCE:3
DTSTAMP:20260420T063546Z
URL:http://lincolnsquareravenswood.smartcms.site/events/details/fall-coat-drive-at-little-green-baby-2185
END:VEVENT

END:VCALENDAR
