BEGIN:VCALENDAR
VERSION:2.0
PRODID:-//ChamberMaster//Event Calendar 2.0//EN
METHOD:PUBLISH
X-PUBLISHED-TTL:P3D
REFRESH-INTERVAL:P3D
CALSCALE:GREGORIAN
BEGIN:VEVENT
DTSTART:20101023T200000Z
DTEND:20101023T210000Z
X-MICROSOFT-CDO-ALLDAYEVENT:FALSE
SUMMARY:Family Nutrition Workshop
DESCRIPTION:Our Family Nutrition Workshop is presented by Dr. Todd C. Renn\, Chiropractic Physician and Science-Based Nutrition Expert. \n\nSaturday: October 23rd at 3:00 PM\n\nThis workshop will explore topics such as:\n\n?	"Picky-eaters"\n\n?	snacks\n\n?	Time Savers\n\n?	Money Saving Ideas\n\n?	Meal Planning\n\n?	Supplementation\n\n?	Party's\n\n?	Health Care Myths\n\n?	Cold and Flu Prevention\n\nFor more information or to reserve your seat(s) call Nadia at (773) 878-7330 or visit the events section of our website: www.RennWellness.com
X-ALT-DESC;FMTTYPE=text/html:Our Family Nutrition Workshop is presented by Dr. Todd C. Renn\, Chiropractic Physician and Science-Based Nutrition Expert. \n<br>Saturday: October 23rd at 3:00 PM\n<br>This workshop will explore topics such as:\n<br>?	"Picky-eaters"\n<br>?	snacks\n<br>?	Time Savers\n<br>?	Money Saving Ideas\n<br>?	Meal Planning\n<br>?	Supplementation\n<br>?	Party's\n<br>?	Health Care Myths\n<br>?	Cold and Flu Prevention\n<br>For more information or to reserve your seat(s) call Nadia at (773) 878-7330 or visit the events section of our website: www.RennWellness.com\n<br>
LOCATION:Ravenswood Chiropractic & Wellness Center 5215 North Ravenswood\, Suite 105 Chicago\, IL 60640
UID:e.697.638
SEQUENCE:3
DTSTAMP:20260421T031341Z
URL:http://lincolnsquareravenswood.smartcms.site/events/details/family-nutrition-workshop-638
END:VEVENT

END:VCALENDAR
