BEGIN:VCALENDAR
VERSION:2.0
PRODID:-//ChamberMaster//Event Calendar 2.0//EN
METHOD:PUBLISH
X-PUBLISHED-TTL:P3D
REFRESH-INTERVAL:P3D
CALSCALE:GREGORIAN
BEGIN:VEVENT
DTSTART:20100714T230000Z
DTEND:20100715T000000Z
X-MICROSOFT-CDO-ALLDAYEVENT:FALSE
SUMMARY:Fan Meet n Greet German National Handball Team
DESCRIPTION:The German men's national handball team will be in Chicago the week of July 12 for a match against the Poland at the UIC Pavilion on Saturday\, July 17. \n\n\n\n\n\nThe team will be welcomed to Chicago at the DANK Haus on July 14. The meet-n-greet and reception will be opened with a speech by Consul General of the Federal Republic of Germany Onno Hückmann.
X-ALT-DESC;FMTTYPE=text/html:The German men's national handball team will be in Chicago the week of July 12 for a match against the Poland at the UIC Pavilion on Saturday\, July 17. \n<br>\n<br>\n<br>The team will be welcomed to Chicago at the DANK Haus on July 14. The meet-n-greet and reception will be opened with a speech by Consul General of the Federal Republic of Germany Onno Hückmann.\n<br>
LOCATION:
UID:e.697.576
SEQUENCE:3
DTSTAMP:20260421T080724Z
URL:http://lincolnsquareravenswood.smartcms.site/events/details/fan-meet-n-greet-german-national-handball-team-576
END:VEVENT

END:VCALENDAR
