BEGIN:VCALENDAR
VERSION:2.0
PRODID:-//ChamberMaster//Event Calendar 2.0//EN
METHOD:PUBLISH
X-PUBLISHED-TTL:P3D
REFRESH-INTERVAL:P3D
CALSCALE:GREGORIAN
BEGIN:VEVENT
DTSTART:20120506T190000Z
DTEND:20120506T220000Z
X-MICROSOFT-CDO-ALLDAYEVENT:FALSE
SUMMARY:Fashion Show/ Fundraiser
DESCRIPTION:Salon 44 Spa is hosting a Fashion Show/ Fundraiser\n\nBenefiting Children's Memorial Hospital\n\nFeaturing Clothing from Savvy Seconds and 1sts\n\nHair and Make up by Salon 44 Spa\n\n\n\nSilent Austion Items By:  Chicago Vein Institute\, Core Power Yoga\, Salon 44 Spa And many more!\n\nSunday May 6\, 2012   2:00 P.M.   4452 N. Western Ave.  Chicago\, Il. 60625\n\n773-588-4444  Bring your friends and have some fun while we support our community! Proceeds Benefit Children's Memorial Hospital.
X-ALT-DESC;FMTTYPE=text/html:Salon 44 Spa is hosting a Fashion Show/ Fundraiser<br />\nBenefiting Children&#39\;s Memorial Hospital<br />\nFeaturing Clothing from Savvy Seconds and 1sts<br />\nHair and Make up by Salon 44 Spa<br />\n<br />\nSilent Austion Items By: &nbsp\;Chicago Vein Institute\, Core Power Yoga\, Salon 44 Spa And many more!<br />\nSunday May 6\, 2012 &nbsp\; 2:00 P.M. &nbsp\; 4452 N. Western Ave. &nbsp\;Chicago\, Il. 60625<br />\n773-588-4444 &nbsp\;Bring your friends and have some fun while we support our community! Proceeds Benefit Children&#39\;s Memorial Hospital.
LOCATION:4452 N. Western Ave.
UID:e.697.2548
SEQUENCE:3
DTSTAMP:20260419T201515Z
URL:http://lincolnsquareravenswood.smartcms.site/events/details/fashion-show-fundraiser-2548
END:VEVENT

END:VCALENDAR
