BEGIN:VCALENDAR
VERSION:2.0
PRODID:-//ChamberMaster//Event Calendar 2.0//EN
METHOD:PUBLISH
X-PUBLISHED-TTL:P3D
REFRESH-INTERVAL:P3D
CALSCALE:GREGORIAN
BEGIN:VEVENT
DTSTART:20111202T233000Z
DTEND:20111203T003000Z
X-MICROSOFT-CDO-ALLDAYEVENT:FALSE
SUMMARY:Festival of Lights and Carols at Bethany Retirement Community
DESCRIPTION:The Bethany Methodist Staff Invite you to attend:\n\nFestival of Lights and Carols\n\n\n\n\n\nFRIDAY\, DECEMBER 2\, 2011\n\n5:30 p.m.   Festival of Lights in Heritage Lane\n\n6:00   p.m.   Caroling and Reception\n\n \n\nBethany Retirement Community\n\n4950 N. Ashland Ave.\, Chicago\n\n \n\nCelebrate the joy and peace of the Season!\n\n \n\nPlease RSVP by December 1   773-989-1354\n\n \n\nShare the light of hope with our neediest residents.  We welcome clothing or monetary gifts to brighten their holidays.\n\n \n\nComplimentary parking in Methodist Hospital's gated lot: 5025 N. Paulina St.
X-ALT-DESC;FMTTYPE=text/html:<br />\n<span style="font-size: 14pt"><span style="color: #002060"><span style="font-family: lucida calligraphy">The Bethany Methodist Staff Invite you to attend:</span></span></span><br />\n<span style="font-size: 28pt"><span style="color: #002060"><span style="font-family: lucida calligraphy">Festival of Lights and Carols</span></span></span><br />\n<br />\n<br />\n<strong><span style="font-size: 20pt"><span style="color: #002060"><span style="font-family: lucida calligraphy">FRIDAY\, DECEMBER 2\, 2011</span></span></span></strong><br />\n<strong><span style="font-size: 14pt"><span style="color: #002060"><span style="font-family: lucida calligraphy">5:30 p.m. &ndash\; Festival of Lights in Heritage Lane</span></span></span></strong><br />\n<strong><span style="font-size: 14pt"><span style="color: #002060"><span style="font-family: lucida calligraphy">6:00 &ndash\; p.m. &ndash\; Caroling and Reception</span></span></span></strong><br />\n&nbsp\;<br />\n<strong><span style="font-size: 14pt"><span style="color: #002060"><span style="font-family: lucida calligraphy">Bethany Retirement Community</span></span></span></strong><br />\n<strong><span style="font-size: 14pt"><span style="color: #002060"><span style="font-family: lucida calligraphy">4950 N. Ashland Ave.\, Chicago</span></span></span></strong><br />\n&nbsp\;<br />\n<span style="font-size: 14pt"><span style="color: #002060"><span style="font-family: lucida calligraphy">Celebrate the joy and peace of the Season!</span></span></span><br />\n&nbsp\;<br />\n<strong><span style="font-size: 14pt"><span style="color: #002060"><span style="font-family: lucida calligraphy">Please RSVP by December 1 &ndash\; 773-989-1354</span></span></span></strong><br />\n&nbsp\;<br />\n<span style="font-size: 12pt"><span style="color: #002060">Share the light of hope with our neediest residents.&nbsp\; We welcome clothing or monetary gifts to brighten their holidays.</span></span><br />\n&nbsp\;<br />\n<span style="color: #002060"><span style="font-family: lucida calligraphy"><span style="font-size: medium">Complimentary parking in Methodist Hospital&rsquo\;s gated lot: 5025 N. Paulina St.</span></span></span><br />\n&nbsp\;<br />\n
LOCATION:Bethany Retirement Community 4950 N. Ashland Avenue
UID:e.697.2212
SEQUENCE:3
DTSTAMP:20260420T045440Z
URL:http://lincolnsquareravenswood.smartcms.site/events/details/festival-of-lights-and-carols-at-bethany-retirement-community-2212
END:VEVENT

END:VCALENDAR
