BEGIN:VCALENDAR
VERSION:2.0
PRODID:-//ChamberMaster//Event Calendar 2.0//EN
METHOD:PUBLISH
X-PUBLISHED-TTL:P3D
REFRESH-INTERVAL:P3D
CALSCALE:GREGORIAN
BEGIN:VEVENT
DTSTART:20110312T180000Z
DTEND:20110312T190000Z
X-MICROSOFT-CDO-ALLDAYEVENT:FALSE
SUMMARY:FREE HOME BUYING SEMINAR AT DREAM TOWN REALTY
DESCRIPTION:Home Buying 101:  From the Search to the Signing\n\n\n\nLUNCH WILL BE SERVED!\n\n\n\nGet a jump start on Spring market! 411 Tips on Trends\, Lending\, Advice for the Home-Buying process.\n\n\n\nRSVP to Diana at dmassaro@dreamtown.com or 312-265-4931
X-ALT-DESC;FMTTYPE=text/html:Home Buying 101:  From the Search to the Signing\n<br>\n<br>LUNCH WILL BE SERVED!\n<br>\n<br>Get a jump start on Spring market! 411 Tips on Trends\, Lending\, Advice for the Home-Buying process.\n<br>\n<br>RSVP to Diana at dmassaro@dreamtown.com or 312-265-4931
LOCATION:4553 N. Lincoln Avenue
UID:e.697.767
SEQUENCE:3
DTSTAMP:20260420T191247Z
URL:http://lincolnsquareravenswood.smartcms.site/events/details/free-home-buying-seminar-at-dream-town-realty-767
END:VEVENT

END:VCALENDAR
