BEGIN:VCALENDAR
VERSION:2.0
PRODID:-//ChamberMaster//Event Calendar 2.0//EN
METHOD:PUBLISH
X-PUBLISHED-TTL:P3D
REFRESH-INTERVAL:P3D
CALSCALE:GREGORIAN
BEGIN:VEVENT
DTSTART:20110901T210000Z
DTEND:20110901T230000Z
X-MICROSOFT-CDO-ALLDAYEVENT:FALSE
SUMMARY:Friends of McPherson back to school BBQ
DESCRIPTION:Join us for a barbeque to celebrate the beginning of a new school year! We'll grill hotdogs and have games and activities for kids of all ages. Whether you're a McPherson student\, parent\, or community member\, we invite you to come out and have some end-of-summer fun with Friends of McPherson!
X-ALT-DESC;FMTTYPE=text/html:Join us for a barbeque to celebrate the beginning of a new school year! We&rsquo\;ll grill hotdogs and have games and activities for kids of all ages. Whether you&#39\;re a McPherson student\, parent\, or community member\, we invite you to come out and have some end-of-summer fun with Friends of McPherson!
LOCATION:McPherson School parking lot. McPherson is located at 4728 N. Wolcott Ave. The parking lot is on Lawrence Ave.
UID:e.697.1343
SEQUENCE:3
DTSTAMP:20260420T094227Z
URL:http://lincolnsquareravenswood.smartcms.site/events/details/friends-of-mcpherson-back-to-school-bbq-1343
END:VEVENT

END:VCALENDAR
