BEGIN:VCALENDAR
VERSION:2.0
PRODID:-//ChamberMaster//Event Calendar 2.0//EN
METHOD:PUBLISH
X-PUBLISHED-TTL:P3D
REFRESH-INTERVAL:P3D
CALSCALE:GREGORIAN
BEGIN:VEVENT
DTSTART:20111018T000000Z
DTEND:20111018T013000Z
X-MICROSOFT-CDO-ALLDAYEVENT:FALSE
SUMMARY:Friends of McPherson School Monthly Meeting
DESCRIPTION:Special guest - Alderman Ameya Pawar!\n\n	\n\n	Interested in supporting your neighborhood elementary school?  We are always looking to involve more community members.  All are welcome and encouraged to attend.  Come see what we're all about!
X-ALT-DESC;FMTTYPE=text/html:<p>\n	<span style="font-family: comic sans ms"><big>Special guest - Alderman Ameya Pawar!<br />\n	<br />\n	Interested in supporting your neighborhood elementary school?&nbsp\; We are always looking to involve more community members.&nbsp\; All are welcome and encouraged to attend.&nbsp\; Come see what we&#39\;re all about!</big></span></p>\n
LOCATION:McPherson Multipurpose Room 4728 N. Wolcott Ave (enter from parking lot on Lawrence through Winchester door)
UID:e.697.2163
SEQUENCE:3
DTSTAMP:20260420T081909Z
URL:http://lincolnsquareravenswood.smartcms.site/events/details/friends-of-mcpherson-school-monthly-meeting-2163
END:VEVENT

END:VCALENDAR
