BEGIN:VCALENDAR
VERSION:2.0
PRODID:-//ChamberMaster//Event Calendar 2.0//EN
METHOD:PUBLISH
X-PUBLISHED-TTL:P3D
REFRESH-INTERVAL:P3D
CALSCALE:GREGORIAN
BEGIN:VEVENT
DTSTART:20111021T223000Z
DTEND:20111022T010000Z
X-MICROSOFT-CDO-ALLDAYEVENT:FALSE
SUMMARY:Friends of McPherson School Pub Fundraiser
DESCRIPTION:Come One\, Come All!\n\nJoin old friends and meet new ones as we enjoy drinks\, appetizers\, and a raffle at O'Shaughnessey's Public House.  Come meet some of McPherson's dedicated teachers and parents and show your support for this exceptional neighborhood school in a fun environment.  Kids are welcome to attend.
X-ALT-DESC;FMTTYPE=text/html:<span style="font-family: comic sans ms"><span style="font-family: verdana"><span>Come One\, Come All!<br />\nJoin old friends and meet new&nbsp\;ones as we enjoy drinks\, appetizers\, and a raffle at O&#39\;Shaughnessey&#39\;s Public House.&nbsp\; Come meet some of McPherson&#39\;s dedicated teachers and parents and show your support&nbsp\;for this exceptional neighborhood school in a fun environment.&nbsp\; Kids are welcome to attend</span></span>.</span>
LOCATION:O'Shaughnessy's Public House 4557 N. Ravenswood Ave.
UID:e.697.2165
SEQUENCE:3
DTSTAMP:20260420T081833Z
URL:http://lincolnsquareravenswood.smartcms.site/events/details/friends-of-mcpherson-school-pub-fundraiser-2165
END:VEVENT

END:VCALENDAR
