BEGIN:VCALENDAR
VERSION:2.0
PRODID:-//ChamberMaster//Event Calendar 2.0//EN
METHOD:PUBLISH
X-PUBLISHED-TTL:P3D
REFRESH-INTERVAL:P3D
CALSCALE:GREGORIAN
BEGIN:VEVENT
DTSTART:20110427T020000Z
DTEND:20110427T040000Z
X-MICROSOFT-CDO-ALLDAYEVENT:FALSE
SUMMARY:Game 7\, Hawks v.s. VC
DESCRIPTION:Join Us!!\n\nGame 7 \n\nHawks v.s. VC\n\nFree Pizza Buffet\n\n$4.00 HB
X-ALT-DESC;FMTTYPE=text/html:Join Us!!\n<br>Game 7 \n<br>Hawks v.s. VC\n<br>Free Pizza Buffet\n<br>$4.00 HB 
LOCATION:Pizza DOC
UID:e.697.864
SEQUENCE:3
DTSTAMP:20260420T173602Z
URL:http://lincolnsquareravenswood.smartcms.site/events/details/game-7-hawks-v-s-vc-864
END:VEVENT

END:VCALENDAR
