BEGIN:VCALENDAR
VERSION:2.0
PRODID:-//ChamberMaster//Event Calendar 2.0//EN
METHOD:PUBLISH
X-PUBLISHED-TTL:P3D
REFRESH-INTERVAL:P3D
CALSCALE:GREGORIAN
BEGIN:VEVENT
DTSTART:20101105T233000Z
DTEND:20101106T050000Z
X-MICROSOFT-CDO-ALLDAYEVENT:FALSE
SUMMARY:''Gateway to the Tropics''
DESCRIPTION:Annual Dinner Dance/Silent Auction  There is also a Cash Raffle with a Grand Prize of $1000.00.  Tickets are $5.00 and are already available.
X-ALT-DESC;FMTTYPE=text/html:Annual Dinner Dance/Silent Auction  There is also a Cash Raffle with a Grand Prize of $1000.00.  Tickets are $5.00 and are already available.
LOCATION:Victoria Beau Jolie 9950 W Lawrence Ave Schiller Park
UID:e.697.620
SEQUENCE:3
DTSTAMP:20260421T013516Z
URL:http://lincolnsquareravenswood.smartcms.site/events/details/gateway-to-the-tropics-620
END:VEVENT

END:VCALENDAR
