BEGIN:VCALENDAR
VERSION:2.0
PRODID:-//ChamberMaster//Event Calendar 2.0//EN
METHOD:PUBLISH
X-PUBLISHED-TTL:P3D
REFRESH-INTERVAL:P3D
CALSCALE:GREGORIAN
BEGIN:VEVENT
DTSTART;VALUE=DATE:20110909
DTEND;VALUE=DATE:20110912
TRANSP:TRANSPARENT
X-MICROSOFT-CDO-ALLDAYEVENT:TRUE
SUMMARY:German American Fest
DESCRIPTION:Get ready to celebrate the German culture Chicago style at the 2011 German American Fest taking place in Lincoln Square. The German American Fest is brought to you yearly by the United German American Societies of Greater Chicago.\n\n	 \n\n	For more information on German American Fest contact the United German American Societies of Greater Chicago.\n\n	 \n\n	United German-American Societies of Greater Chicago \n\n	6540 N. Milwaukee Avenue\, Chicago IL 60631-1750 \n\n	630.653.3018
X-ALT-DESC;FMTTYPE=text/html:<p>\n	Get ready to celebrate the German culture Chicago style at the 2011 German American Fest taking place in Lincoln Square. The German American Fest is brought to you yearly by the United German American Societies of Greater Chicago.</p>\n<p>\n	&nbsp\;</p>\n<p>\n	For more information on German American Fest contact the United German American Societies of Greater Chicago.</p>\n<p>\n	&nbsp\;</p>\n<p>\n	<span><strong><a href="http://www.germanday.com/" target="_blank">United German-American Societies of Greater Chicago</a></strong> </span></p>\n<p>\n	<span>6540 N. Milwaukee Avenue\, Chicago IL 60631-1750 </span></p>\n<p>\n	<span>630.653.3018 </span></p>\n
LOCATION:W. Leland Avenue (between N. Lincoln and N. Western)
UID:e.697.700
SEQUENCE:3
DTSTAMP:20260420T093926Z
URL:http://lincolnsquareravenswood.smartcms.site/events/details/german-american-fest-700
END:VEVENT

END:VCALENDAR
