BEGIN:VCALENDAR
VERSION:2.0
PRODID:-//ChamberMaster//Event Calendar 2.0//EN
METHOD:PUBLISH
X-PUBLISHED-TTL:P3D
REFRESH-INTERVAL:P3D
CALSCALE:GREGORIAN
BEGIN:VEVENT
DTSTART:20110226T013000Z
DTEND:20110226T043000Z
X-MICROSOFT-CDO-ALLDAYEVENT:FALSE
SUMMARY:GERMAN CINEMA NOW - ALLES AUF ZUCKER! (GO FOR ZUCKER)
DESCRIPTION:GO FOR ZUCKER (ALLES AUF ZUCKER): A German-Jewish comedy about brothers who must reconcile in order to get their inheritance.\n\n\n\nContemporary German films with English subtitles. \n\n\n\nhttp://www.imdb.com/title/tt0416331/\n\n\n\n$2 Popcorn and Pretzel\n\n$3 Landjager
X-ALT-DESC;FMTTYPE=text/html:GO FOR ZUCKER (ALLES AUF ZUCKER): A German-Jewish comedy about brothers who must reconcile in order to get their inheritance.\n<br>\n<br>Contemporary German films with English subtitles. \n<br>\n<br>http://www.imdb.com/title/tt0416331/\n<br>\n<br>$2 Popcorn and Pretzel\n<br>$3 Landjager\n<br>
LOCATION:DANK Haus 4740 n Western Ave Chicago IL 60625
UID:e.697.726
SEQUENCE:3
DTSTAMP:20260420T204447Z
URL:http://lincolnsquareravenswood.smartcms.site/events/details/german-cinema-now-alles-auf-zucker-go-for-zucker-726
END:VEVENT

END:VCALENDAR
