BEGIN:VCALENDAR
VERSION:2.0
PRODID:-//ChamberMaster//Event Calendar 2.0//EN
METHOD:PUBLISH
X-PUBLISHED-TTL:P3D
REFRESH-INTERVAL:P3D
CALSCALE:GREGORIAN
BEGIN:VEVENT
DTSTART:20120428T003000Z
DTEND:20120428T033000Z
X-MICROSOFT-CDO-ALLDAYEVENT:FALSE
SUMMARY:German Cinema Now at DANK Haus German American Cultural Center
DESCRIPTION:East-German born director Leander Haussmann created a colorful\, hilarious and nostalgic look at life in East Berlin in the 1970's with "Sun Alley" It takes a comic look at an era usually portrayed through bleak dramas or espionage thrillers.
X-ALT-DESC;FMTTYPE=text/html:East-German born director Leander Haussmann created a colorful\, hilarious and nostalgic look at life in East Berlin in the 1970&#39\;s with &quot\;Sun Alley&quot\; It takes a comic look at an era usually portrayed through bleak dramas or espionage thrillers.<br />\n
LOCATION:DANK Haus German American Cultural Center 4740 N. Western Ave. Chicago\, IL 60625
UID:e.697.2506
SEQUENCE:3
DTSTAMP:20260419T220132Z
URL:http://lincolnsquareravenswood.smartcms.site/events/details/german-cinema-now-at-dank-haus-german-american-cultural-center-2506
END:VEVENT

END:VCALENDAR
