BEGIN:VCALENDAR
VERSION:2.0
PRODID:-//ChamberMaster//Event Calendar 2.0//EN
METHOD:PUBLISH
X-PUBLISHED-TTL:P3D
REFRESH-INTERVAL:P3D
CALSCALE:GREGORIAN
BEGIN:VEVENT
DTSTART:20110129T013000Z
DTEND:20110129T043000Z
X-MICROSOFT-CDO-ALLDAYEVENT:FALSE
SUMMARY:German Cinema Now - Beyond Silence (Jenseits der Stille)
DESCRIPTION:Contemporary German films with English subtitles\n\nFree admission and popcorn. Bar available\n\n\n\nIMDB Link: http://www.imdb.com/title/tt0116692/
X-ALT-DESC;FMTTYPE=text/html:Contemporary German films with English subtitles\n<br>Free admission and popcorn. Bar available\n<br>\n<br>IMDB Link: http://www.imdb.com/title/tt0116692/
LOCATION:4740 n Western Ave Chicago IL 60625
UID:e.697.714
SEQUENCE:3
DTSTAMP:20260420T222923Z
URL:http://lincolnsquareravenswood.smartcms.site/events/details/german-cinema-now-beyond-silence-jenseits-der-stille-714
END:VEVENT

END:VCALENDAR
