BEGIN:VCALENDAR
VERSION:2.0
PRODID:-//ChamberMaster//Event Calendar 2.0//EN
METHOD:PUBLISH
X-PUBLISHED-TTL:P3D
REFRESH-INTERVAL:P3D
CALSCALE:GREGORIAN
BEGIN:VEVENT
DTSTART:20120428T003000Z
DTEND:20120428T033000Z
X-MICROSOFT-CDO-ALLDAYEVENT:FALSE
SUMMARY:German Cinema Now - Sun Alley (Sonnenallee)
DESCRIPTION:East-German born director Leander Haussmann created a colorful\, hilarious and nostalgic look at life in East Berlin in the 1970's with "Sun Alley" It takes a comic look at an era usually portrayed through bleak dramas or espionage thrillers.\n\n\n\n17 year-old Micha lives on Sun Alley\, which wends most of its way through West Berlin with only its tail end in East Berlin. But Wall or no Wall\, it's the 70's: bell bottoms\, the Stones and getting into trouble. When Micha's passions are aroused by the stunning Miriam\, his spirit soars to blissful heights of freedom and the rest of the world fades.\n\n\n\nWe travel on this journey with him and we realize that "East" is not all that it is cracked up to be. For Micha and his gang\, it is the best time of their lives.\n\n\n\nPopcorn $2\, Pretzel $2\, Landjaeger $3. Cash bar.\n\nFREE parking at MB Financial Bank at Western and Gunnison.
X-ALT-DESC;FMTTYPE=text/html:East-German born director Leander Haussmann created a colorful\, hilarious and nostalgic look at life in East Berlin in the 1970&#39\;s with &quot\;Sun Alley&quot\; It takes a comic look at an era usually portrayed through bleak dramas or espionage thrillers.<br />\n<br />\n17 year-old Micha lives on Sun Alley\, which wends most of its way through West Berlin with only its tail end in East Berlin. But Wall or no Wall\, it&#39\;s the 70&#39\;s: bell bottoms\, the Stones and getting into trouble. When Micha&#39\;s passions are aroused by the stunning Miriam\, his spirit soars to blissful heights of freedom and the rest of the world fades.<br />\n<br />\nWe travel on this journey with him and we realize that &quot\;East&quot\; is not all that it is cracked up to be. For Micha and his gang\, it is the best time of their lives.<br />\n<br />\nPopcorn $2\, Pretzel $2\, Landjaeger $3. Cash bar.<br />\nFREE parking at MB Financial Bank at Western and Gunnison.
LOCATION:DANK Haus 4740 N. Western Ave\, 6th Floor
UID:e.697.2499
SEQUENCE:3
DTSTAMP:20260419T220124Z
URL:http://lincolnsquareravenswood.smartcms.site/events/details/german-cinema-now-sun-alley-sonnenallee-2499
END:VEVENT

END:VCALENDAR
