BEGIN:VCALENDAR
VERSION:2.0
PRODID:-//ChamberMaster//Event Calendar 2.0//EN
METHOD:PUBLISH
X-PUBLISHED-TTL:P3D
REFRESH-INTERVAL:P3D
CALSCALE:GREGORIAN
BEGIN:VEVENT
DTSTART:20110521T220000Z
DTEND:20110522T040000Z
X-MICROSOFT-CDO-ALLDAYEVENT:FALSE
SUMMARY:GlobalFest
DESCRIPTION:Join us for the 7th Annual GlobalFest on Saturday\, May 21\, where we will celebrate the culture\, music and dance of Mexico\, Australia\, Germany\, China\, Puerto Rico\, Poland\, Nigeria\, Ecuador\, New Zealand\, Belgium and the United States. This family-friendly festival is a celebration of our diversity and raises revenue for the school.\n\n	    \n\n	At 5 p.m.\, GlobalFest Mass opens the evening with performances by the Preschool and Kindergarten.  Beginning at 6:45 p.m.\, children in Grades 1 to 6 will perform songs and dances from the featured countries in the gym.  Class projects will decorate the gym and first floor.\n\n	\n\n	From 6 p.m. to 11 p.m.\, under the tents on the playground\, will be an international buffet with all-you-can eat hot dogs\,  kiddie burgers\, Polish Sausage\, hamburgers\, vegetarian sandwiches\, spring rolls\, appetizers\, global desserts and more.\n\n	\n\n	Music from two DJs\, a silent auction\, a Bey Blade Racer Tournament and children's activities will round out the evening.  \n\n	    \n\n	Please purchase tickets before May 21 from the School Office or Rectory. Save money and be invited to use the Express Entrance. Adult tickets are $12 in advance and $15 at the door. Child tickets are $6 in advance and $8 at the door. Children under age 2 are free.
X-ALT-DESC;FMTTYPE=text/html:<span style="font-size: 12px\;">Join us for the 7th Annual GlobalFest on Saturday\, May 21\, where we will celebrate the culture\, music and dance of Mexico\, Australia\, Germany\, China\, Puerto Rico\, Poland\, Nigeria\, Ecuador\, New Zealand\, Belgium and the United States. This family-friendly festival is a celebration of our diversity and raises revenue for the school.</span>\n<p>\n	<span style="font-size: 12px\;">&nbsp\;&nbsp\;&nbsp\;&nbsp\;<br />\n	At 5 p.m.\, GlobalFest Mass opens the evening with performances by the Preschool and Kindergarten.&nbsp\;&nbsp\;Beginning at&nbsp\;6:45 p.m.\,&nbsp\;children in Grades 1 to 6 will perform songs and dances from the featured countries in the gym.&nbsp\; Class&nbsp\;projects will decorate the gym and first floor.</span></p>\n<p>\n	<br />\n	<span style="font-size: 12px\;">From 6&nbsp\;p.m. to 11&nbsp\;p.m.\,&nbsp\;under the tents on the playground\, will be an international buffet with all-you-can eat hot dogs\,&nbsp\; kiddie burgers\, Polish Sausage\, hamburgers\, vegetarian sandwiches\, spring rolls\, appetizers\, global desserts and more.</span></p>\n<p>\n	<br />\n	<span style="font-size: 12px\;">Music from two DJs\, a silent auction\, a Bey Blade Racer Tournament and children&rsquo\;s activities will round out the evening.&nbsp\; </span></p>\n<p>\n	<span style="font-size: 12px\;">&nbsp\;&nbsp\;&nbsp\;&nbsp\;<br />\n	Please purchase tickets before May 21 from the School Office or Rectory. Save money and&nbsp\;be invited to use the Express Entrance.&nbsp\;Adult tickets are $12 in advance and $15 at the door. Child tickets are $6 in advance and $8 at the door.&nbsp\;Children under age 2 are free.</span></p>\n
LOCATION:4910 N. Claremont - St. Matthias Transfiguration School
UID:e.697.503
SEQUENCE:3
DTSTAMP:20260420T160012Z
URL:http://lincolnsquareravenswood.smartcms.site/events/details/globalfest-503
END:VEVENT

END:VCALENDAR
