BEGIN:VCALENDAR
VERSION:2.0
PRODID:-//ChamberMaster//Event Calendar 2.0//EN
METHOD:PUBLISH
X-PUBLISHED-TTL:P3D
REFRESH-INTERVAL:P3D
CALSCALE:GREGORIAN
BEGIN:VEVENT
DTSTART:20100429T223000Z
DTEND:20100430T010000Z
X-MICROSOFT-CDO-ALLDAYEVENT:FALSE
SUMMARY:Greening of Ravenswood
DESCRIPTION:Greening of Ravenswood Alderman Gene Schulter\; the Lincoln Square\, Northcenter\, and Ravenswood Chambers of Commerce\; Ravenswood Community Council\; Jane Addams Resource Corporation\; Neighborhood Boys and Girls Club and the Greening of Ravenswood will be hosting the 23rd Annual Arbor Day Celebration on Thursday\, April 29 2010 at Pizza D.O.C.\, 2251 W. Lawrence Avenue.The event will begin at 5:30 pm. The evening will include an appetizer buffet\, select wine and beer\, live auction\, and a raffle.  Our thanks to our sponsors who help make this event possible.Cost for the event is $65 in advance\, $75 at the door\, and $10 for children. To make a reservation\, please fill out our contact form\, call (773) 784-0400\, or click on the button below. To be an event sponsor or make a donation for the drawing and silent auction! Click here for more information.
X-ALT-DESC;FMTTYPE=text/html:<div><strong>Greening of Ravenswood</strong></div><div>&nbsp\;</div><div><div><p>Alderman Gene Schulter\; the Lincoln Square\, Northcenter\, and Ravenswood Chambers of Commerce\; Ravenswood Community Council\; Jane Addams Resource Corporation\; Neighborhood Boys and Girls Club and the Greening of Ravenswood will be hosting the <strong>23rd Annual Arbor Day&nbsp\;Celebration</strong> on <strong>Thursday\, April 29 2010 </strong>at&nbsp\;<strong>Pizza D.O.C.\, </strong>2251 W. Lawrence Avenue.</p><p>The event will begin at 5:30 pm. The evening will include an appetizer buffet\, select wine and beer\, <a href="/site/epage/24281_520.htm">live auction\, and a raffle</a>.&nbsp\; Our thanks to our <a href="/site/epage/75193_520.htm">sponsors</a> who help make this event possible.</p></div><div>Cost for the event&nbsp\;is $65 in advance\, $75 at the door\, and $10 for children. To make a reservation\, please fill out our <a href="/site/epage/24301_520.htm">contact form</a>\, call (773) 784-0400\, or click on the button below.&nbsp\;<strong>To be&nbsp\;an</strong> <strong>event&nbsp\;sponsor or make a donation for the drawing and silent auction!</strong> <strong><a href="/site/epage/26632_520.htm" target="_blank">Click here</a> </strong>for more information.</div></div>
LOCATION:Pizza D.O.C.\, 2251 W. Lawrence Avenue
UID:e.697.314
SEQUENCE:3
DTSTAMP:20260421T141454Z
URL:http://lincolnsquareravenswood.smartcms.site/events/details/greening-of-ravenswood-314
END:VEVENT

END:VCALENDAR
