BEGIN:VCALENDAR
VERSION:2.0
PRODID:-//ChamberMaster//Event Calendar 2.0//EN
METHOD:PUBLISH
X-PUBLISHED-TTL:P3D
REFRESH-INTERVAL:P3D
CALSCALE:GREGORIAN
BEGIN:VEVENT
DTSTART;VALUE=DATE:20120328
DTEND;VALUE=DATE:20120424
TRANSP:TRANSPARENT
X-MICROSOFT-CDO-ALLDAYEVENT:TRUE
SUMMARY:Grimm Fairy Tale Worlds Exhibi at DANK Haus German American Cultural Center
DESCRIPTION:Whether or not you read any of the Brothers Grimm fairy tales as a child or adult\, there is a part of us all that connects to stories Jacob and Wilhelm Grimm collected 200 years ago. The Goethe-Institut celebrates this anniversary with a worldwide exhibition for fans of fairy tales\, both young and old! The DANK Haus is transformed into a pine forest holding many surprises. In the forest\, visitors will discover seven treasure chests of interactive exercises on the following topics in both German and English:\n\n1. Heroines 2. Heroes 3. Villains. 4. Animals 5. Fear and fright 6. Tasks of courage 7. Magic
X-ALT-DESC;FMTTYPE=text/html:Whether or not you read any of the Brothers Grimm fairy tales as a child or adult\, there is a part of us all that connects to stories Jacob and Wilhelm Grimm collected 200 years ago. The Goethe-Institut celebrates this anniversary with a worldwide exhibition for fans of f<span class="text_exposed_show">airy tales\, both young and old! The DANK Haus is transformed into a pine forest holding many surprises. In the forest\, visitors will discover seven treasure chests of interactive exercises on the following topics in both German and English:<br />\n1. Heroines 2. Heroes 3. Villains. 4. Animals 5. Fear and fright 6. Tasks of courage 7. Magic</span>
LOCATION:DANK Haus German American Cultural Center 4740 N. Western Ave Chicago\, IL 60625
UID:e.697.2505
SEQUENCE:3
DTSTAMP:20260419T220146Z
URL:http://lincolnsquareravenswood.smartcms.site/events/details/grimm-fairy-tale-worlds-exhibi-at-dank-haus-german-american-cultural-center-2505
END:VEVENT

END:VCALENDAR
